{"text_format":"1","workbook":"xlsx","n_sheets":21,"sheets":["sys","mst","スタートページ","入力画面(入力シートその１)","入力画面(入力シートその２)","入力画面(入力シートその３)","入力・印刷兼用(役員名簿)","印刷画面","印刷用（申請書１）","印刷用（申請書２）","印刷用（経営規模等総括表）","印刷用（営業品目調書）","印刷用（誓約書）","印刷用（委任状）","印刷用(使用印鑑届)","印刷用(暴力団排除条例誓約書)","印刷用(市内事務所等調書)","印刷用(受理証)","印刷用(提出書類チェック表（市内）)","印刷用(提出書類チェック表（市外）)","印刷用(CDラベル・宛名ラベル)"],"not_rendered":{"charts":0,"images":29,"macros":1,"external_links":0,"defined_names":6,"comments":1,"pivot_tables":0},"unopened":[],"bounds":{"document_bytes":16777216,"sheet_cells":100000,"rows_first":2000,"rows_last":500,"rows_between":2000,"halvings":0,"cell_chars":16384,"cell_head_chars":4096},"cells_cut":0,"cells_raw":0,"read":"whole","date_system":"1900"}

{"sheet":"sys","index":0,"n_rows":320,"n_cols":30,"rows_kept":320,"cut":false,"hidden":true,"merged":[]}
["id","p1_1","p2_1","p2_2","p2_3","p2_4","p2_5","p2_6","p2_7","p2_8","p2_9","p2_10","p2_11","p2_12","p2_13","p2_14","p3_1","p3_2","p3_3","p3_4","p4_1","p5_1","p5_2","p5_3","p5_4","p5_5","p5_6","p5_7","p5_8","p5_9"]
[1,{"$f":"IF(ISBLANK('入力画面(入力シートその１)'!G13),\"\",'入力画面(入力シートその１)'!G13)","v":""},{"$f":"IF('入力画面(入力シートその２)'!B11<>\"\",'入力画面(入力シートその２)'!B11,\"\")","v":""},{"$f":"IF('入力画面(入力シートその２)'!E11<>\"\",'入力画面(入力シートその２)'!E11,\"\")","v":""},{"$f":"IF('入力画面(入力シートその２)'!H11<>\"\",'入力画面(入力シートその２)'!H11,\"\")","v":""},{"$f":"IF('入力画面(入力シートその２)'!O11<>\"\",'入力画面(入力シートその２)'!O11,\"\")","v":""},{"$f":"IF('入力画面(入力シートその２)'!AM11<>\"\",'入力画面(入力シートその２)'!AM11,\"\")","v":""},null,null,null,null,null,null,null,null,null,{"$f":"IF('入力画面(入力シートその３)'!B3<>\"\",'入力画面(入力シートその３)'!B3,\"\")","v":""},{"$f":"IF('入力画面(入力シートその３)'!D3<>\"\",'入力画面(入力シートその３)'!D3,\"\")","v":""},{"$f":"IF('入力画面(入力シートその３)'!E3<>\"\",'入力画面(入力シートその３)'!E3,\"\")","v":""},{"$f":"IF('入力画面(入力シートその３)'!H3<>\"\",'入力画面(入力シートその３)'!H3,\"\")","v":""}]
[2,{"$f":"IF(ISBLANK('入力画面(入力シートその１)'!G14),\"\",'入力画面(入力シートその１)'!G14)","v":""},{"$f":"IF('入力画面(入力シートその２)'!B12<>\"\",'入力画面(入力シートその２)'!B12,\"\")","v":""},{"$f":"IF('入力画面(入力シートその２)'!E12<>\"\",'入力画面(入力シートその２)'!E12,\"\")","v":""},{"$f":"IF('入力画面(入力シートその２)'!H12<>\"\",'入力画面(入力シートその２)'!H12,\"\")","v":""},{"$f":"IF('入力画面(入力シートその２)'!O12<>\"\",'入力画面(入力シートその２)'!O12,\"\")","v":""},{"$f":"IF('入力画面(入力シートその２)'!AM12<>\"\",'入力画面(入力シートその２)'!AM12,\"\")","v":""},null,null,null,null,null,null,null,null,null,{"$f":"IF('入力画面(入力シートその３)'!B4<>\"\",'入力画面(入力シートその３)'!B4,\"\")","v":""},{"$f":"IF('入力画面(入力シートその３)'!D4<>\"\",'入力画面(入力シートその３)'!D4,\"\")","v":""},{"$f":"IF('入力画面(入力シートその３)'!E4<>\"\",'入力画面(入力シートその３)'!E4,\"\")","v":""},{"$f":"IF('入力画面(入力シートその３)'!H4<>\"\",'入力画面(入力シートその３)'!H4,\"\")","v":""}]
[3,{"$f":"IF(ISBLANK('入力画面(入力シートその１)'!G15),\"\",'入力画面(入力シートその１)'!G15)","v":""},{"$f":"IF('入力画面(入力シートその２)'!B13<>\"\",'入力画面(入力シートその２)'!B13,\"\")","v":""},{"$f":"IF('入力画面(入力シートその２)'!E13<>\"\",'入力画面(入力シートその２)'!E13,\"\")","v":""},{"$f":"IF('入力画面(入力シートその２)'!H13<>\"\",'入力画面(入力シートその２)'!H13,\"\")","v":""},{"$f":"IF('入力画面(入力シートその２)'!O13<>\"\",'入力画面(入力シートその２)'!O13,\"\")","v":""},{"$f":"IF('入力画面(入力シートその２)'!AM13<>\"\",'入力画面(入力シートその２)'!AM13,\"\")","v":""},null,null,null,null,null,null,null,null,null,{"$f":"IF('入力画面(入力シートその３)'!B5<>\"\",'入力画面(入力シートその３)'!B5,\"\")","v":""},{"$f":"IF('入力画面(入力シートその３)'!D5<>\"\",'入力画面(入力シートその３)'!D5,\"\")","v":""},{"$f":"IF('入力画面(入力シートその３)'!E5<>\"\",'入力画面(入力シートその３)'!E5,\"\")","v":""},{"$f":"IF('入力画面(入力シートその３)'!H5<>\"\",'入力画面(入力シートその３)'!H5,\"\")","v":""}]
[4,null,{"$f":"IF('入力画面(入力シートその２)'!B14<>\"\",'入力画面(入力シートその２)'!B14,\"\")","v":""},{"$f":"IF('入力画面(入力シートその２)'!E14<>\"\",'入力画面(入力シートその２)'!E14,\"\")","v":""},{"$f":"IF('入力画面(入力シートその２)'!H14<>\"\",'入力画面(入力シートその２)'!H14,\"\")","v":""},{"$f":"IF('入力画面(入力シートその２)'!O14<>\"\",'入力画面(入力シートその２)'!O14,\"\")","v":""},{"$f":"IF('入力画面(入力シートその２)'!AM14<>\"\",'入力画面(入力シートその２)'!AM14,\"\")","v":""},null,null,null,null,null,null,null,null,null,{"$f":"IF('入力画面(入力シートその３)'!B6<>\"\",'入力画面(入力シートその３)'!B6,\"\")","v":""},{"$f":"IF('入力画面(入力シートその３)'!D6<>\"\",'入力画面(入力シートその３)'!D6,\"\")","v":""},{"$f":"IF('入力画面(入力シートその３)'!E6<>\"\",'入力画面(入力シートその３)'!E6,\"\")","v":""},{"$f":"IF('入力画面(入力シートその３)'!H6<>\"\",'入力画面(入力シートその３)'!H6,\"\")","v":""}]
[5,{"$f":"IF(ISBLANK('入力画面(入力シートその１)'!G17),\"\",'入力画面(入力シートその１)'!G17)","v":""},{"$f":"IF('入力画面(入力シートその２)'!B15<>\"\",'入力画面(入力シートその２)'!B15,\"\")","v":""},{"$f":"IF('入力画面(入力シートその２)'!E15<>\"\",'入力画面(入力シートその２)'!E15,\"\")","v":""},{"$f":"IF('入力画面(入力シートその２)'!H15<>\"\",'入力画面(入力シートその２)'!H15,\"\")","v":""},{"$f":"IF('入力画面(入力シートその２)'!O15<>\"\",'入力画面(入力シートその２)'!O15,\"\")","v":""},{"$f":"IF('入力画面(入力シートその２)'!AM15<>\"\",'入力画面(入力シートその２)'!AM15,\"\")","v":""},null,null,null,null,null,null,null,null,null,{"$f":"IF('入力画面(入力シートその３)'!B7<>\"\",'入力画面(入力シートその３)'!B7,\"\")","v":""},{"$f":"IF('入力画面(入力シートその３)'!D7<>\"\",'入力画面(入力シートその３)'!D7,\"\")","v":""},{"$f":"IF('入力画面(入力シートその３)'!E7<>\"\",'入力画面(入力シートその３)'!E7,\"\")","v":""},{"$f":"IF('入力画面(入力シートその３)'!H7<>\"\",'入力画面(入力シートその３)'!H7,\"\")","v":""}]
[6,{"$f":"IF(ISBLANK('入力画面(入力シートその１)'!G18),\"\",'入力画面(入力シートその１)'!G18)","v":""},{"$f":"IF('入力画面(入力シートその２)'!B16<>\"\",'入力画面(入力シートその２)'!B16,\"\")","v":""},{"$f":"IF('入力画面(入力シートその２)'!E16<>\"\",'入力画面(入力シートその２)'!E16,\"\")","v":""},{"$f":"IF('入力画面(入力シートその２)'!H16<>\"\",'入力画面(入力シートその２)'!H16,\"\")","v":""},{"$f":"IF('入力画面(入力シートその２)'!O16<>\"\",'入力画面(入力シートその２)'!O16,\"\")","v":""},{"$f":"IF('入力画面(入力シートその２)'!AM16<>\"\",'入力画面(入力シートその２)'!AM16,\"\")","v":""},null,null,null,null,null,null,null,null,null,{"$f":"IF('入力画面(入力シートその３)'!B8<>\"\",'入力画面(入力シートその３)'!B8,\"\")","v":""},{"$f":"IF('入力画面(入力シートその３)'!D8<>\"\",'入力画面(入力シートその３)'!D8,\"\")","v":""},{"$f":"IF('入力画面(入力シートその３)'!E8<>\"\",'入力画面(入力シートその３)'!E8,\"\")","v":""},{"$f":"IF('入力画面(入力シートその３)'!H8<>\"\",'入力画面(入力シートその３)'!H8,\"\")","v":""}]
[7,{"$f":"IF(ISBLANK('入力画面(入力シートその１)'!G19),\"\",'入力画面(入力シートその１)'!G19)","v":""},{"$f":"IF('入力画面(入力シートその２)'!B17<>\"\",'入力画面(入力シートその２)'!B17,\"\")","v":""},{"$f":"IF('入力画面(入力シートその２)'!E17<>\"\",'入力画面(入力シートその２)'!E17,\"\")","v":""},{"$f":"IF('入力画面(入力シートその２)'!H17<>\"\",'入力画面(入力シートその２)'!H17,\"\")","v":""},{"$f":"IF('入力画面(入力シートその２)'!O17<>\"\",'入力画面(入力シートその２)'!O17,\"\")","v":""},{"$f":"IF('入力画面(入力シートその２)'!AM17<>\"\",'入力画面(入力シートその２)'!AM17,\"\")","v":""},null,null,null,null,null,null,null,null,null,{"$f":"IF('入力画面(入力シートその３)'!B9<>\"\",'入力画面(入力シートその３)'!B9,\"\")","v":""},{"$f":"IF('入力画面(入力シートその３)'!D9<>\"\",'入力画面(入力シートその３)'!D9,\"\")","v":""},{"$f":"IF('入力画面(入力シートその３)'!E9<>\"\",'入力画面(入力シートその３)'!E9,\"\")","v":""},{"$f":"IF('入力画面(入力シートその３)'!H9<>\"\",'入力画面(入力シートその３)'!H9,\"\")","v":""}]
[8,{"$f":"IF(ISBLANK('入力画面(入力シートその１)'!G20),\"\",'入力画面(入力シートその１)'!G20)","v":""},{"$f":"IF('入力画面(入力シートその２)'!B18<>\"\",'入力画面(入力シートその２)'!B18,\"\")","v":""},{"$f":"IF('入力画面(入力シートその２)'!E18<>\"\",'入力画面(入力シートその２)'!E18,\"\")","v":""},{"$f":"IF('入力画面(入力シートその２)'!H18<>\"\",'入力画面(入力シートその２)'!H18,\"\")","v":""},{"$f":"IF('入力画面(入力シートその２)'!O18<>\"\",'入力画面(入力シートその２)'!O18,\"\")","v":""},{"$f":"IF('入力画面(入力シートその２)'!AM18<>\"\",'入力画面(入力シートその２)'!AM18,\"\")","v":""},null,null,null,null,null,null,null,null,null,{"$f":"IF('入力画面(入力シートその３)'!B10<>\"\",'入力画面(入力シートその３)'!B10,\"\")","v":""},{"$f":"IF('入力画面(入力シートその３)'!D10<>\"\",'入力画面(入力シートその３)'!D10,\"\")","v":""},{"$f":"IF('入力画面(入力シートその３)'!E10<>\"\",'入力画面(入力シートその３)'!E10,\"\")","v":""},{"$f":"IF('入力画面(入力シートその３)'!H10<>\"\",'入力画面(入力シートその３)'!H10,\"\")","v":""}]
[9,{"$f":"IF(ISBLANK('入力画面(入力シートその１)'!G21),\"\",'入力画面(入力シートその１)'!G21)","v":""},{"$f":"IF('入力画面(入力シートその２)'!B19<>\"\",'入力画面(入力シートその２)'!B19,\"\")","v":""},{"$f":"IF('入力画面(入力シートその２)'!E19<>\"\",'入力画面(入力シートその２)'!E19,\"\")","v":""},{"$f":"IF('入力画面(入力シートその２)'!H19<>\"\",'入力画面(入力シートその２)'!H19,\"\")","v":""},{"$f":"IF('入力画面(入力シートその２)'!O19<>\"\",'入力画面(入力シートその２)'!O19,\"\")","v":""},{"$f":"IF('入力画面(入力シートその２)'!AM19<>\"\",'入力画面(入力シートその２)'!AM19,\"\")","v":""}]
[10,{"$f":"IF(ISBLANK('入力画面(入力シートその１)'!G22),\"\",'入力画面(入力シートその１)'!G22)","v":""},{"$f":"IF('入力画面(入力シートその２)'!B20<>\"\",'入力画面(入力シートその２)'!B20,\"\")","v":""},{"$f":"IF('入力画面(入力シートその２)'!E20<>\"\",'入力画面(入力シートその２)'!E20,\"\")","v":""},{"$f":"IF('入力画面(入力シートその２)'!H20<>\"\",'入力画面(入力シートその２)'!H20,\"\")","v":""},{"$f":"IF('入力画面(入力シートその２)'!O20<>\"\",'入力画面(入力シートその２)'!O20,\"\")","v":""},{"$f":"IF('入力画面(入力シートその２)'!AM20<>\"\",'入力画面(入力シートその２)'!AM20,\"\")","v":""}]
[11,{"$f":"IF(ISBLANK('入力画面(入力シートその１)'!G23),\"\",'入力画面(入力シートその１)'!G23)","v":""},{"$f":"IF('入力画面(入力シートその２)'!B21<>\"\",'入力画面(入力シートその２)'!B21,\"\")","v":""},{"$f":"IF('入力画面(入力シートその２)'!E21<>\"\",'入力画面(入力シートその２)'!E21,\"\")","v":""},{"$f":"IF('入力画面(入力シートその２)'!H21<>\"\",'入力画面(入力シートその２)'!H21,\"\")","v":""},{"$f":"IF('入力画面(入力シートその２)'!O21<>\"\",'入力画面(入力シートその２)'!O21,\"\")","v":""},{"$f":"IF('入力画面(入力シートその２)'!AM21<>\"\",'入力画面(入力シートその２)'!AM21,\"\")","v":""}]
[12,{"$f":"IF(ISBLANK('入力画面(入力シートその１)'!G24),\"\",'入力画面(入力シートその１)'!G24)","v":""},{"$f":"IF('入力画面(入力シートその２)'!B22<>\"\",'入力画面(入力シートその２)'!B22,\"\")","v":""},{"$f":"IF('入力画面(入力シートその２)'!E22<>\"\",'入力画面(入力シートその２)'!E22,\"\")","v":""},{"$f":"IF('入力画面(入力シートその２)'!H22<>\"\",'入力画面(入力シートその２)'!H22,\"\")","v":""},{"$f":"IF('入力画面(入力シートその２)'!O22<>\"\",'入力画面(入力シートその２)'!O22,\"\")","v":""},{"$f":"IF('入力画面(入力シートその２)'!AM22<>\"\",'入力画面(入力シートその２)'!AM22,\"\")","v":""}]
[13,{"$f":"IF(ISBLANK('入力画面(入力シートその１)'!G25),\"\",'入力画面(入力シートその１)'!G25)","v":""},{"$f":"IF('入力画面(入力シートその２)'!B23<>\"\",'入力画面(入力シートその２)'!B23,\"\")","v":""},{"$f":"IF('入力画面(入力シートその２)'!E23<>\"\",'入力画面(入力シートその２)'!E23,\"\")","v":""},{"$f":"IF('入力画面(入力シートその２)'!H23<>\"\",'入力画面(入力シートその２)'!H23,\"\")","v":""},{"$f":"IF('入力画面(入力シートその２)'!O23<>\"\",'入力画面(入力シートその２)'!O23,\"\")","v":""},{"$f":"IF('入力画面(入力シートその２)'!AM23<>\"\",'入力画面(入力シートその２)'!AM23,\"\")","v":""}]
[14,{"$f":"IF(ISBLANK('入力画面(入力シートその１)'!G26),\"\",'入力画面(入力シートその１)'!G26)","v":""},{"$f":"IF('入力画面(入力シートその２)'!B24<>\"\",'入力画面(入力シートその２)'!B24,\"\")","v":""},{"$f":"IF('入力画面(入力シートその２)'!E24<>\"\",'入力画面(入力シートその２)'!E24,\"\")","v":""},{"$f":"IF('入力画面(入力シートその２)'!H24<>\"\",'入力画面(入力シートその２)'!H24,\"\")","v":""},{"$f":"IF('入力画面(入力シートその２)'!O24<>\"\",'入力画面(入力シートその２)'!O24,\"\")","v":""},{"$f":"IF('入力画面(入力シートその２)'!AM24<>\"\",'入力画面(入力シートその２)'!AM24,\"\")","v":""}]
[15,{"$f":"IF(ISBLANK('入力画面(入力シートその１)'!G27),\"\",'入力画面(入力シートその１)'!G27)","v":""},{"$f":"IF('入力画面(入力シートその２)'!B25<>\"\",'入力画面(入力シートその２)'!B25,\"\")","v":""},{"$f":"IF('入力画面(入力シートその２)'!E25<>\"\",'入力画面(入力シートその２)'!E25,\"\")","v":""},{"$f":"IF('入力画面(入力シートその２)'!H25<>\"\",'入力画面(入力シートその２)'!H25,\"\")","v":""},{"$f":"IF('入力画面(入力シートその２)'!O25<>\"\",'入力画面(入力シートその２)'!O25,\"\")","v":""},{"$f":"IF('入力画面(入力シートその２)'!AM25<>\"\",'入力画面(入力シートその２)'!AM25,\"\")","v":""}]
[16,{"$f":"IF(ISBLANK('入力画面(入力シートその１)'!G28),\"\",'入力画面(入力シートその１)'!G28)","v":""},{"$f":"IF('入力画面(入力シートその２)'!B26<>\"\",'入力画面(入力シートその２)'!B26,\"\")","v":""},{"$f":"IF('入力画面(入力シートその２)'!E26<>\"\",'入力画面(入力シートその２)'!E26,\"\")","v":""},{"$f":"IF('入力画面(入力シートその２)'!H26<>\"\",'入力画面(入力シートその２)'!H26,\"\")","v":""},{"$f":"IF('入力画面(入力シートその２)'!O26<>\"\",'入力画面(入力シートその２)'!O26,\"\")","v":""},{"$f":"IF('入力画面(入力シートその２)'!AM26<>\"\",'入力画面(入力シートその２)'!AM26,\"\")","v":""}]
[17,null,{"$f":"IF('入力画面(入力シートその２)'!B27<>\"\",'入力画面(入力シートその２)'!B27,\"\")","v":""},{"$f":"IF('入力画面(入力シートその２)'!E27<>\"\",'入力画面(入力シートその２)'!E27,\"\")","v":""},{"$f":"IF('入力画面(入力シートその２)'!H27<>\"\",'入力画面(入力シートその２)'!H27,\"\")","v":""},{"$f":"IF('入力画面(入力シートその２)'!O27<>\"\",'入力画面(入力シートその２)'!O27,\"\")","v":""},{"$f":"IF('入力画面(入力シートその２)'!AM27<>\"\",'入力画面(入力シートその２)'!AM27,\"\")","v":""}]
[18,{"$f":"IF(ISBLANK('入力画面(入力シートその１)'!R16),\"\",'入力画面(入力シートその１)'!R16)","v":""},{"$f":"IF('入力画面(入力シートその２)'!B28<>\"\",'入力画面(入力シートその２)'!B28,\"\")","v":""},{"$f":"IF('入力画面(入力シートその２)'!E28<>\"\",'入力画面(入力シートその２)'!E28,\"\")","v":""},{"$f":"IF('入力画面(入力シートその２)'!H28<>\"\",'入力画面(入力シートその２)'!H28,\"\")","v":""},{"$f":"IF('入力画面(入力シートその２)'!O28<>\"\",'入力画面(入力シートその２)'!O28,\"\")","v":""},{"$f":"IF('入力画面(入力シートその２)'!AM28<>\"\",'入力画面(入力シートその２)'!AM28,\"\")","v":""}]
[19,{"$f":"IF(ISBLANK('入力画面(入力シートその１)'!R17),\"\",'入力画面(入力シートその１)'!R17)","v":""},{"$f":"IF('入力画面(入力シートその２)'!B29<>\"\",'入力画面(入力シートその２)'!B29,\"\")","v":""},{"$f":"IF('入力画面(入力シートその２)'!E29<>\"\",'入力画面(入力シートその２)'!E29,\"\")","v":""},{"$f":"IF('入力画面(入力シートその２)'!H29<>\"\",'入力画面(入力シートその２)'!H29,\"\")","v":""},{"$f":"IF('入力画面(入力シートその２)'!O29<>\"\",'入力画面(入力シートその２)'!O29,\"\")","v":""},{"$f":"IF('入力画面(入力シートその２)'!AM29<>\"\",'入力画面(入力シートその２)'!AM29,\"\")","v":""}]
[20,{"$f":"IF(ISBLANK('入力画面(入力シートその１)'!R18),\"\",'入力画面(入力シートその１)'!R18)","v":""},{"$f":"IF('入力画面(入力シートその２)'!B30<>\"\",'入力画面(入力シートその２)'!B30,\"\")","v":""},{"$f":"IF('入力画面(入力シートその２)'!E30<>\"\",'入力画面(入力シートその２)'!E30,\"\")","v":""},{"$f":"IF('入力画面(入力シートその２)'!H30<>\"\",'入力画面(入力シートその２)'!H30,\"\")","v":""},{"$f":"IF('入力画面(入力シートその２)'!O30<>\"\",'入力画面(入力シートその２)'!O30,\"\")","v":""},{"$f":"IF('入力画面(入力シートその２)'!AM30<>\"\",'入力画面(入力シートその２)'!AM30,\"\")","v":""}]
[21,{"$f":"IF(ISBLANK('入力画面(入力シートその１)'!R19),\"\",'入力画面(入力シートその１)'!R19)","v":""}]
[22,{"$f":"IF(ISBLANK('入力画面(入力シートその１)'!R20),\"\",'入力画面(入力シートその１)'!R20)","v":""}]
[23,{"$f":"IF(ISBLANK('入力画面(入力シートその１)'!R21),\"\",'入力画面(入力シートその１)'!R21)","v":""}]
[24,{"$f":"IF(ISBLANK('入力画面(入力シートその１)'!R22),\"\",'入力画面(入力シートその１)'!R22)","v":""}]
[25,{"$f":"IF(ISBLANK('入力画面(入力シートその１)'!R23),\"\",'入力画面(入力シートその１)'!R23)","v":""}]
[26,{"$f":"IF(ISBLANK('入力画面(入力シートその１)'!R24),\"\",'入力画面(入力シートその１)'!R24)","v":""}]
[27,{"$f":"IF(ISBLANK('入力画面(入力シートその１)'!R25),\"\",'入力画面(入力シートその１)'!R25)","v":""}]
[28,{"$f":"IF(ISBLANK('入力画面(入力シートその１)'!R26),\"\",'入力画面(入力シートその１)'!R26)","v":""}]
[29,{"$f":"IF(ISBLANK('入力画面(入力シートその１)'!R27),\"\",'入力画面(入力シートその１)'!R27)","v":""}]
[30,{"$f":"IF(ISBLANK('入力画面(入力シートその１)'!G39),\"\",'入力画面(入力シートその１)'!G39)","v":""}]
[31,{"$f":"IF(ISBLANK('入力画面(入力シートその１)'!G40),\"\",'入力画面(入力シートその１)'!G40)","v":""}]
[32,{"$f":"IF(ISBLANK('入力画面(入力シートその１)'!G36),\"\",'入力画面(入力シートその１)'!G36)","v":""}]
[33,{"$f":"IF(ISBLANK('入力画面(入力シートその１)'!G37),\"\",'入力画面(入力シートその１)'!G37)","v":""}]
[34,{"$f":"IF(ISBLANK('入力画面(入力シートその１)'!G42),\"\",'入力画面(入力シートその１)'!G42)","v":""}]
[35,{"$f":"IF(ISBLANK('入力画面(入力シートその１)'!G43),\"\",'入力画面(入力シートその１)'!G43)","v":""}]
[36,{"$f":"IF(ISBLANK('入力画面(入力シートその１)'!G31),\"\",'入力画面(入力シートその１)'!G31)","v":""}]
[37,{"$f":"IF(ISBLANK('入力画面(入力シートその１)'!G35),\"\",'入力画面(入力シートその１)'!G35)","v":""}]
[38,{"$f":"IF(ISBLANK('入力画面(入力シートその１)'!P51),\"\",'入力画面(入力シートその１)'!P51)","v":""}]
[39]
[40]
[41]
[42]
[43]
[44]
[45]
[46]
[47]
[48]
[49]
[50,3]
[51,"KD_SIMEINEGAI_YASU"]
[52,"2022"]
[53]
[54]
[55]
[56]
[57]
[58]
[59]
[60]
[61]
[62]
[63]
[64]
[65]
[66]
[67]
[68]
[69]
[70]
[71]
[72]
[73]
[74]
[75]
[76]
[77]
[78]
[79]
[80]
[81]
[82]
[83]
[84]
[85]
[86]
[87]
[88]
[89]
[90]
[91]
[92]
[93]
[94]
[95]
[96]
[97]
[98]
[99]
[100]
[101]
[102]
[103]
[104]
[105]
[106]
[107]
[108]
[109]
[110]
[111]
[112]
[113]
[114]
[115]
[116]
[117]
[118]
[119]
[120]
[121]
[122]
[123]
[124]
[125]
[126]
[127]
[128]
[129]
[130]
[131]
[132]
[133]
[134]
[135]
[136]
[137]
[138]
[139]
[140]
[141]
[142]
[143]
[144]
[145]
[146]
[147]
[148]
[149]
[150]
[151]
[152]
[153]
[154]
[155]
[156]
[157]
[158]
[159]
[160]
[161]
[162]
[163]
[164]
[165]
[166]
[167]
[168]
[169]
[170]
[171]
[172]
[173]
[174]
[175]
[176]
[177]
[178]
[179]
[180]
[181]
[182]
[183]
[184]
[185]
[186]
[187]
[188]
[189]
[190]
[191]
[192]
[193]
[194]
[195]
[196]
[197]
[198]
[199]
[200]
[201]
[202]
[203]
[204]
[205]
[206]
[207]
[208]
[209]
[210]
[211]
[212]
[213]
[214]
[215]
[216]
[217]
[218]
[219]
[220]
[221]
[222]
[223]
[224]
[225]
[226]
[227]
[228]
[229]
[230]
[231]
[232]
[233]
[234]
[235]
[236]
[237]
[238]
[239]
[240]
[241]
[242]
[243]
[244]
[245]
[246]
[247]
[248]
[249]
[250]
[251]
[252]
[253]
[254]
[255]
[256]
[257]
[258]
[259]
[260]
[261]
[262]
[263]
[264]
[265]
[266]
[267]
[268]
[269]
[270]
[271]
[272]
[273]
[274]
[275]
[276]
[277]
[278]
[279]
[280]
[281]
[282]
[283]
[284]
[285]
[286]
[287]
[288]
[289]
[290]
[291]
[292]
[293]
[294]
[295]
[296]
[297]
[298]
[299]
[300]
[301]
[302]
[303]
[304]
[305]
[306]
[307]
[308]
[309]
[310]
[311]
[312]
[313]
[314]
[315]
[316]
[317]
[318]
[null,null,"希望","コード","分類","主要取扱品目","年商割合",null,null,null,null,null,null,null,null,null,"関連品目コード","許可・認可・資格等の種類","許可・認可・資格等登録番号","許可年月日"]

{"sheet":"mst","index":1,"n_rows":49,"n_cols":58,"rows_kept":49,"cut":false,"hidden":true,"merged":[]}
["法人格",null,"ID","分類","No",null,null,null,null,null,"所在区分名",null,null,null,"都道府県コード",null,null,"市町村コード",null,null,"管轄事務所コード",null,"表示",null,null,null,null,null,null,null,null,null,null,null,null,null,null,null,null,null,null,null,"申請区分",null,"許可区分",null,"番号","特般区分",null,"新規継続区分",null,"有無",null,"ISO有無",null,"口座種類",null,"希望順位区分"]
[null,null,null,null,null,null,null,null,null,null,"町内",null,null,"00","大臣",null,2018,"大津市",null,null,null,null,"１：希望する",null,null,null,null,null,null,null,null,null,null,null,null,null,null,null,null,null,null,null,null,null,null,null,null,null,null,"１：新規"]
["株式会社･･･",null,1,"印刷・製本類",1,null,null,null,null,null,"県内",null,null,"01","北海道",null,2026,"彦根市",null,null,null,null,"０：希望しない",null,null,null,null,null,null,null,null,null,null,null,null,null,null,null,null,null,null,null,"○",null,"般",null,1,"般",null,"２：継続",null,"○",null,"0：無",null,"当座",null,1]
["･･･株式会社",null,2,"写真・コピー類",2,null,null,null,null,null,"県外",null,null,"02","青森県",null,2034,"長浜市",null,null,null,null,null,null,null,null,null,null,null,null,null,null,null,null,null,null,null,null,null,null,null,null,null,null,"特",null,2,"特",null,null,null,null,null,"1：有",null,"普通",null,2]
["有限会社･･･",null,3,"オフィス用品類",3,null,null,null,null,null,null,null,null,"03","岩手県",null,2042,"近江八幡市",null,null,null,null,null,null,null,null,null,null,null,null,null,null,null,null,null,null,null,null,null,null,null,null,null,null,null,null,3,"両方",null,null,null,null,null,null,null,null,null,3]
["･･･有限会社",null,4,"コンピュータ類",4,null,null,null,null,null,null,null,null,"04","宮城県",null,2069,"草津市",null,null,null,null,null,null,null,null,null,null,null,null,null,null,null,null,null,null,null,null,null,null,null,null,null,null,null,null,null,null,null,null,null,null,null,null,null,null,null,4]
["協同組合･･･",null,5,"図書・新聞類",5,null,null,null,null,null,null,null,null,"05","秋田県",null,2077,"守山市",null,null,null,null,null,null,null,null,null,null,null,null,null,null,null,null,null,null,null,null,null,null,null,null,null,null,null,null,null,null,null,null,null,null,null,null,null,null,null,5]
["･･･協同組合",null,6,"教材・手芸・楽器・遊具類",6,null,null,null,null,null,null,null,null,"06","山形県",null,2085,"栗東市"]
["社団法人･･･",null,7,"室内装飾類",7,null,null,null,null,null,null,null,null,"07","福島県",null,2093,"甲賀市"]
["･･･社団法人",null,8,"看板・標識・舞台類",8,null,null,null,null,null,null,null,null,"08","茨城県",null,2107,"野洲市"]
["一般社団法人･･･",null,9,"衣料・縫製品類",9,null,null,null,null,null,null,null,null,"09","栃木県",null,2115,"湖南市"]
["･･･一般社団法人",null,10,"金物・日用雑貨類",10,null,null,null,null,null,null,null,null,"10","群馬県",null,2123,"高島市"]
["財団法人･･･",null,11,"ギフト類",11,null,null,null,null,null,null,null,null,"11","埼玉県",null,2131,"東近江市"]
["･･･財団法人",null,12,"電気・通信機器類",12,null,null,null,null,null,null,null,null,"12","千葉県",null,2140,"米原市"]
["一般財団法人･･･",null,13,"厨房・空調機器類",13,null,null,null,null,null,null,null,null,"13","東京都",null,3839,"蒲生郡日野町"]
["･･･一般財団法人",null,14,"消防・防災機器類",14,null,null,null,null,null,null,null,null,"14","神奈川県",null,3847,"蒲生郡竜王町"]
["協業組合･･･",null,15,"機械器具類",15,null,null,null,null,null,null,null,null,"15","新潟県",null,4258,"愛知郡愛荘町"]
["･･･協業組合",null,16,"医薬品・器具・薬品類",16,null,null,null,null,null,null,null,null,"16","富山県",null,4410,"犬上郡豊郷町"]
["企業組合･･･",null,17,"車両全般",17,null,null,null,null,null,null,null,null,"17","石川県",null,4428,"犬上郡甲良町"]
["･･･企業組合",null,18,"燃料類",18,null,null,null,null,null,null,null,null,"18","福井県",null,4436,"犬上郡多賀町"]
["合名会社･･･",null,19,"資材・設備",19,null,null,null,null,null,null,null,null,"19","山梨県"]
["･･･合名会社",null,20,"食料品類",20,null,null,null,null,null,null,null,null,"20","長野県"]
["合資会社･･･",null,21,"選挙用品",21,null,null,null,null,null,null,null,null,"21","岐阜県"]
["･･･合資会社",null,22,"動物",22,null,null,null,null,null,null,null,null,"22","静岡県"]
[null,null,23,"その他の物品製造・販売",23,null,null,null,null,null,null,null,null,"23","愛知県"]
[null,null,24,"建物等管理業務",24,null,null,null,null,null,null,null,null,"24","三重県"]
[null,null,25,"保守点検管理業務",25,null,null,null,null,null,null,null,null,"25","滋賀県"]
[null,null,26,"リース・レンタル",26,null,null,null,null,null,null,null,null,"26","京都府"]
[null,null,27,"調査・検査業務",27,null,null,null,null,null,null,null,null,"27","大阪府"]
[null,null,28,"電算処理関連業務",28,null,null,null,null,null,null,null,null,"28","兵庫県"]
[null,null,29,"広報イベント業務",29,null,null,null,null,null,null,null,null,"29","奈良県"]
[null,null,30,"業務代行",30,null,null,null,null,null,null,null,null,"30","和歌山県"]
[null,null,31,"資源回収",31,null,null,null,null,null,null,null,null,"31","鳥取県"]
[null,null,32,"運送・運搬業務",32,null,null,null,null,null,null,null,null,"32","島根県"]
[null,null,33,"福祉サービス業務",33,null,null,null,null,null,null,null,null,"33","岡山県"]
[null,null,34,"企画立案業務",34,null,null,null,null,null,null,null,null,"34","広島県"]
[null,null,35,"旅行業",35,null,null,null,null,null,null,null,null,"35","山口県"]
[null,null,36,"保険",36,null,null,null,null,null,null,null,null,"36","徳島県"]
[null,null,37,"クリーニング",37,null,null,null,null,null,null,null,null,"37","香川県"]
[null,null,38,"オペレータ付き重機貸出し",38,null,null,null,null,null,null,null,null,"38","愛媛県"]
[null,null,39,"車両整備",39,null,null,null,null,null,null,null,null,"39","高知県"]
[null,null,40,"文化財関連業務",40,null,null,null,null,null,null,null,null,"40","福岡県"]
[null,null,41,"その他の役務提供",41,null,null,null,null,null,null,null,null,"41","佐賀県"]
[null,null,null,null,null,null,null,null,null,null,null,null,null,"42","長野県"]
[null,null,null,null,null,null,null,null,null,null,null,null,null,"43","熊本県"]
[null,null,null,null,null,null,null,null,null,null,null,null,null,"44","大分県"]
[null,null,null,null,null,null,null,null,null,null,null,null,null,"45","宮崎県"]
[null,null,null,null,null,null,null,null,null,null,null,null,null,"46","鹿児島県"]
[null,null,null,null,null,null,null,null,null,null,null,null,null,"47","沖縄県"]

{"sheet":"スタートページ","index":2,"n_rows":96,"n_cols":9,"rows_kept":96,"cut":false,"hidden":false,"merged":[]}
["野洲市入札参加資格審査申請書入力　スタートページ"]
[null,null,null,null,null,null,null,null,"令和5年11月15日更新"]
[]
["入力を始める場合は↓このボタンを押して下さい。"]
[]
[]
[]
[]
["※「入力スタート」ボタンを押しても『入力画面(入力シートその１)』が表示されない場合は"]
["　以下の内容をご確認下さい"]
[]
["＜Excel起動時の注意事項＞ "]
["・Excel起動時に「マクロを有効にする」ボタンを押してください。"]
[]
["＜Excelの対応バージョンについて＞ "]
["・Excel97以降のバージョンをお使いください。"]
[]
[]
["＜「セキュリティリスク　このファイルのソースが信頼できないため、Microsoftに"]
["よりマクロの実行がブロックされました。」と表示され、Excelマクロが実行"]
["できない場合＞"]
["Microsoft Officeの更新プログラム適用により、セキュリティが強化され、インターネット"]
["から取得したマクロ付きExcelを開くと、"]
["「セキュリティリスク　このファイルのソースが信頼できないため、Microsoftに"]
["よりマクロの実行がブロックされました。」"]
["と表示され、マクロの実行ができなくなる場合がありますので、その場合は次の対策"]
["を実施してください。"]
[]
["①ダウンロードしたExcel申請書入力ファイル（このファイル）を開いている場合は一旦、"]
["　閉じてください。"]
["②このファイルをエクスプローラー上で右クリックし、プロパティを開いてください。"]
["③全般タブ内にある、「セキュリティ：」の「許可する」にチェックを入れてOKボタンを"]
["　クリックしてください。"]
["以上でセキュリティリスクメッセージが表示されなくなります。"]
[]
[]
["＜Excel2000以降のバージョンをご使用の場合＞ "]
["Excelマクロのセキュリティレベルの関係で起動時にマクロを有効に出来ない "]
["場合があります。マクロのセキュリティレベルを下げてください。 "]
[]
["※Excel2013/2016/2019の場合 "]
["①ファイルを開いたときに、「保護ビュー　注意－インターネットから入手したファイル"]
["　は、ウイルスに感染している可能性があります。編集する必要がなければ、保護"]
["　ビューのままにしておくことをお勧めします。」というメッセージバーが表示された"]
["　場合は「編集を有効にする」をクリックしてください。"]
["②上部メッセージバーに「セキュリティの警告　一部のアクティブコンテンツが無効に"]
["　されました。クリックすると詳細が表示されます。」と表示された場合は、　「コンテ"]
["　ンツの有効化」をクリックしてください。"]
["③Excelの上部[ファイル]タブをクリックし、[オプション]をクリックしてください。"]
["④[トラスト（セキュリティ） センター]を開き、[トラスト（セキュリティ） センターの設定(T)]"]
["   をクリックしてください。"]
["⑤[マクロの設定]を開き、[マクロの設定]で「警告を表示してすべてのマクロ"]
["   を無効にする(D)」を選択し、[OK]をクリックしてください。"]
["⑥Excelを一度終了し、再度開き直してください。"]
["⑦[メッセージバー]の[セキュリティの警告]の右側に表示されている[コンテンツ"]
["   の有効化]をクリックしてください。"]
[]
["※Excel2010の場合 "]
["①ファイルを開いたときに、「保護されたビュー　このファイル、インターネット上の"]
["　場所から取得されており、安全でない可能性があります。クリックすると詳細が"]
["　表示されます。」というメッセージバーが表示された場合は「編集を有効にする」を"]
["　クリックしてください。"]
["②Excelの上部[ファイル]タブをクリックし、[オプション]をクリックしてください。"]
["③[セキュリティ センター]を開き、[セキュリティ センターの設定(T)]をクリック"]
["   してください。"]
["④[マクロの設定]を開き、[マクロの設定]で「警告を表示してすべてのマクロ"]
["   を無効にする(D)」を選択し、[OK]をクリックしてください。"]
["⑤Excelを一度終了し、再度開き直してください。"]
["⑥[メッセージバー]の[セキュリティの警告]の右側に表示されている[コンテンツ"]
["   の有効化]をクリックしてください。"]
[]
["※Excel2007の場合 "]
["①Excelの左上[Officeボタン]をクリックし、[Excelのオプション(I)]ボタンを"]
["   クリックしてください。"]
["②[セキュリティ センター]を開き、[セキュリティ センターの設定(T)]をクリック"]
["   してください。"]
["③[マクロの設定]を開き、[マクロの設定]で「警告を表示してすべてのマクロ"]
["   を無効にする(D)」を選択し、[OK]をクリックしてください。"]
["④Excelを一度終了し、再度開き直してください。"]
["⑤[メッセージバー]の[セキュリティの警告]の右側に表示されている[オプション]"]
["   をクリックし、「このコンテンツを有効にする(E)」を選択して、[OK]をクリック"]
["   してください。"]
[]
["※Excel2002の場合 "]
["①Excelのメニューバーの[オプション]を開き、[セキュリティ]タブの[マクロ "]
["   セキュリティ]でセキュリティレベルを「中」にしてください。 "]
["②Excelを一度終了して、再度開き直してください。"]
["③Excel起動時に「マクロを有効にする」ボタンを押してください。"]
[]
["※Excel2000/2003の場合 "]
["①Excelのメニューバーの[ツール]-[マクロ]-[セキュリティ]を開き、セキュリ "]
["   ティレベルを「中」にしてください。 "]
["②Excelを一度終了して、再度開き直してください。"]
["③Excel起動時に「マクロを有効にする」ボタンを押してください。"]
[]
["※Excel2013RTでは動作しません"]

{"sheet":"入力画面(入力シートその１)","index":3,"n_rows":59,"n_cols":30,"rows_kept":59,"cut":false,"hidden":true,"merged":[[57,2,57,4],[57,6,57,11],[58,2,58,4],[58,6,58,11],[54,1,54,6],[54,7,54,12],[54,13,54,15],[54,16,54,19],[54,20,54,23],[55,1,55,6],[55,7,55,12],[55,13,55,15],[55,16,55,19],[55,20,55,23],[50,1,50,6],[50,7,50,14],[50,15,50,18],[50,19,50,20],[53,1,53,6],[53,7,53,12],[53,13,53,15],[53,16,53,19],[53,20,53,23],[48,1,48,6],[48,7,48,12],[48,13,48,14],[48,15,49,18],[48,19,49,20],[49,1,49,2],[49,3,49,5],[49,7,49,12],[49,13,49,14],[46,1,47,6],[46,7,46,12],[46,13,46,14],[46,15,47,18],[46,19,47,20],[47,7,47,12],[47,13,47,14],[41,1,41,5],[41,6,41,11],[42,1,42,5],[42,6,42,11],[44,1,44,20],[45,1,45,6],[45,7,45,14],[45,15,45,20],[36,1,36,5],[36,6,36,11],[38,1,38,5],[38,6,38,11],[39,1,39,5],[39,6,39,11],[33,1,33,5],[33,6,33,11],[34,1,34,5],[34,6,34,11],[35,1,35,5],[35,6,35,11],[27,2,27,4],[27,6,27,16],[30,1,30,5],[30,6,30,11],[30,15,30,30],[31,1,32,5],[31,6,31,11],[31,12,31,13],[32,6,32,11],[32,12,32,13],[25,2,25,4],[25,6,25,16],[25,17,25,27],[26,2,26,4],[26,6,26,16],[26,17,26,27],[23,2,23,4],[23,6,23,16],[23,17,23,27],[24,2,24,4],[24,6,24,16],[24,17,24,27],[21,2,21,4],[21,6,21,16],[21,17,21,27],[22,2,22,4],[22,6,22,16],[22,17,22,27],[19,2,19,4],[19,6,19,16],[19,17,19,27],[20,2,20,4],[20,6,20,16],[20,17,20,27],[17,2,17,4],[17,6,17,16],[17,17,17,27],[18,2,18,4],[18,6,18,16],[18,17,18,27],[15,2,15,4],[15,6,15,16],[15,17,15,27],[16,2,16,4],[16,6,16,16],[16,17,16,27],[13,2,13,4],[13,6,13,16],[13,17,13,27],[14,2,14,4],[14,6,14,16],[14,17,14,27],[11,1,11,5],[11,7,11,15],[11,18,11,26],[12,2,12,4],[12,6,12,16],[12,17,12,27]]}
["入札参加資格審査申請書（物品・役務の提供）",null,null,null,null,null,null,null,null,null,null,null,null,null,null,null,null,null,null,null,null,null,null,"【入力シート　その１】"]
[]
[null,"※入力の注意点"]
[null,"・","従業員数には臨時または日雇いの従業員は含みません"]
[null,"・","*が付いている項目に関してはﾘｽﾄから選択して下さい"]
[null,"・","□で囲まれた項目については県内業者のみ選択して下さい（県外業者については選択できません）"]
[null,"・","各ｾﾙのﾃﾞｰﾀ消去はBackspaceｷｰまたはDeleteｷｰを使用して下さい"]
[]
[]
[]
[]
[null,null,null,null,null,null,null,"申請者（委任者）",null,null,null,null,null,null,null,null,null,null,"代理人（受任者）",null,null,null,null,null,null,null,null,null,null,"例)"]
[null,null,"社名フリガナ",null,null,null,null,null,null,null,null,null,null,null,null,null,null,null,null,null,null,null,null,null,null,null,null,null,null,"テストデンキ"]
[null,"*","法人区分",null,null,null,null,null,null,null,null,null,null,null,null,null,null,null,null,null,null,null,null,null,null,null,null,null,null,"『テスト電器（株）』　の場合　･･･株式会社"]
[null,null,"商号または名称",null,null,null,null,null,null,null,null,null,null,null,null,null,null,null,null,null,null,null,null,null,null,null,null,null,null,"テスト電器（※法人区分なし）"]
[null,null,"支店名等",null,null,null,null,null,null,null,null,null,null,null,null,null,null,null,null,null,null,null,null,null,null,null,null,null,null,"野洲支店 等"]
[null,null,"代表者フリガナ",null,null,null,null,null,null,null,null,null,null,null,null,null,null,null,null,null,null,null,null,null,null,null,null,null,null,"テスト　タロウ"]
[null,null,"代表者",null,null,null,null,null,null,null,null,null,null,null,null,null,null,null,null,null,null,null,null,null,null,null,null,null,null,"勅須都　太郎"]
[null,null,"役職名",null,null,null,null,null,null,null,null,null,null,null,null,null,null,null,null,null,null,null,null,null,null,null,null,null,null,"代表取締役"]
[null,null,"郵便番号",null,null,null,null,null,null,null,null,null,null,null,null,null,null,null,null,null,null,null,null,null,null,null,null,null,null,"5220341（※- 「ハイフン」なし）"]
[null,"*","番号(都道府県)",null,null,null,null,null,null,null,null,null,null,null,null,null,null,null,null,null,null,null,null,null,null,null,null,null,null,"25"]
[null,null,"都道府県",null,null,null,null,null,null,null,null,null,null,null,null,null,null,null,null,null,null,null,null,null,null,null,null,null,null,"滋賀県"]
[null,"*","番号(市町)",null,null,null,null,null,null,null,null,null,null,null,null,null,null,null,null,null,null,null,null,null,null,null,null,null,null,"2107"]
[null,null,"市区町村",null,null,null,null,null,null,null,null,null,null,null,null,null,null,null,null,null,null,null,null,null,null,null,null,null,null,"野洲市"]
[null,null,"字・番地等",null,null,null,null,null,null,null,null,null,null,null,null,null,null,null,null,null,null,null,null,null,null,null,null,null,null,"小篠原2100番地１"]
[null,null,"ＴＥＬ",null,null,null,null,null,null,null,null,null,null,null,null,null,null,null,null,null,null,null,null,null,null,null,null,null,null,"077-587-1121"]
[null,null,"ＦＡＸ",null,null,null,null,null,null,null,null,null,null,null,null,null,null,null,null,null,null,null,null,null,null,null,null,null,null,"077-587-4033"]
[null,"*","新規継続区分"]
[]
[null,null,null,null,null,null,null,null,null,null,null,null,null,null,null,"例）"]
[null,"創業年月日",null,null,null,null,null,null,null,null,null,null,null,null,null,"S30/10/1　※1899/12/31以前の場合直接入力・・・例）明治32年12月31日"]
[null,"休業又は廃業の期間",null,null,null,null,null,null,null,null,null,null,"から",null,null,"S32/1/1　※1899/12/31以前の場合直接入力・・・例）明治32年12月31日"]
[null,null,null,null,null,null,null,null,null,null,null,null,"まで",null,null,"S33/1/1　※1899/12/31以前の場合直接入力・・・例）明治32年12月31日"]
[null,"現組織への変更",null,null,null,null,null,null,null,null,null,null,null,null,null,"S35/10/1　※1899/12/31以前の場合直接入力・・・例）明治32年12月31日"]
[null,"営業年数",null,null,null,null,null,null,null,null,null,null,null,null,null,"54"]
[null,"従業員数",null,null,null,null,null,null,null,null,null,null,null,null,null,"203"]
[null,"うち技術係従業員数",null,null,null,null,null,null,null,null,null,null,null,null,null,"120"]
[null,"※法人のみ記入"]
[null,"資 本 金(千円単位)",null,null,null,null,null,null,null,null,null,null,null,null,null,"10,000"]
[null,"自己資本金(千円単位)",null,null,null,null,null,null,null,null,null,null,null,null,null,"54,536"]
[]
[null,"ＩＳＯ９００１の有無*　",null,null,null,null,null,null,null,null,null,null,null,null,null,"1：有"]
[null,"ＩＳＯ１４００１の有無*　",null,null,null,null,null,null,null,null,null,null,null,null,null,"0：無"]
[]
[null,"物 品 販 売 等 実 績 高 （ 直 前 １ ヵ 年 ）"]
[null,"業者区分",null,null,null,null,null,"決　　算　　期　　間",null,null,null,null,null,null,null,"実　　　績　　　高"]
[null,"物品販売",null,null,null,null,null,null,null,null,null,null,null,"から",null,null,null,null,null,"千円"]
[null,null,null,null,null,null,null,null,null,null,null,null,null,"まで"]
[null,"物品販売以外の業種",null,null,null,null,null,null,null,null,null,null,null,"から",null,null,null,null,null,"千円"]
[null,"(業種名",null,null,null,null,")",null,null,null,null,null,null,"まで"]
[null,"合計実績高",null,null,null,null,null,null,null,null,null,null,null,null,null,null,null,null,null,"千円"]
[]
[null,"振込希望金融機関口座"]
[null,"口座名義",null,null,null,null,null,"金融機関名",null,null,null,null,null,"支店名",null,null,"口座の種類 *",null,null,null,"口座番号"]
[]
[]
[]
[null,null,"フリカナ"]
[null,null,"申請担当者名"]

{"sheet":"入力画面(入力シートその２)","index":4,"n_rows":30,"n_cols":43,"rows_kept":30,"cut":false,"hidden":true,"merged":[[29,1,29,3],[29,4,29,6],[29,7,29,13],[29,14,29,37],[29,38,29,39],[27,1,27,3],[27,4,27,6],[27,7,27,13],[27,14,27,37],[27,38,27,39],[28,1,28,3],[28,4,28,6],[28,7,28,13],[28,14,28,37],[28,38,28,39],[25,1,25,3],[25,4,25,6],[25,7,25,13],[25,14,25,37],[25,38,25,39],[26,1,26,3],[26,4,26,6],[26,7,26,13],[26,14,26,37],[26,38,26,39],[23,1,23,3],[23,4,23,6],[23,7,23,13],[23,14,23,37],[23,38,23,39],[24,1,24,3],[24,4,24,6],[24,7,24,13],[24,14,24,37],[24,38,24,39],[21,1,21,3],[21,4,21,6],[21,7,21,13],[21,14,21,37],[21,38,21,39],[22,1,22,3],[22,4,22,6],[22,7,22,13],[22,14,22,37],[22,38,22,39],[19,1,19,3],[19,4,19,6],[19,7,19,13],[19,14,19,37],[19,38,19,39],[20,1,20,3],[20,4,20,6],[20,7,20,13],[20,14,20,37],[20,38,20,39],[17,1,17,3],[17,4,17,6],[17,7,17,13],[17,14,17,37],[17,38,17,39],[18,1,18,3],[18,4,18,6],[18,7,18,13],[18,14,18,37],[18,38,18,39],[15,1,15,3],[15,4,15,6],[15,7,15,13],[15,14,15,37],[15,38,15,39],[16,1,16,3],[16,4,16,6],[16,7,16,13],[16,14,16,37],[16,38,16,39],[13,1,13,3],[13,4,13,6],[13,7,13,13],[13,14,13,37],[13,38,13,39],[14,1,14,3],[14,4,14,6],[14,7,14,13],[14,14,14,37],[14,38,14,39],[11,1,11,3],[11,4,11,6],[11,7,11,13],[11,14,11,37],[11,38,11,39],[12,1,12,3],[12,4,12,6],[12,7,12,13],[12,14,12,37],[12,38,12,39],[9,1,9,3],[9,4,9,6],[9,7,9,13],[9,14,9,37],[9,38,9,40],[10,1,10,3],[10,4,10,6],[10,7,10,13],[10,14,10,37],[10,38,10,39]]}
["営業品目調書及び登録を希望する営業品目入力表",null,null,null,null,null,null,null,null,null,null,null,null,null,null,null,null,null,null,null,null,null,"【入力シート　その２】"]
[null,"※入力の注意点"]
[null,"・","年商にしめる割合の多い順（主力取り扱い商品順）に記入して下さい（年商にしめる割合は合計100%に達しなくても結構です）"]
[null,"・","登録を希望する営業品目の希望順位を選択して下さい（希望順位が未入力の場合、データに反映されませんのでご注意ください）"]
[null,"・","主な取り扱い品目には品目名・取扱メーカー名・代理店・特約店名等を記入してください（６５文字以内）"]
[null,"・","品目「２３：その他の物品製造・販売」、「４１：その他の役務提供」を希望する場合は、業務内容を詳しく記入してください"]
[null,"・","*が付いている項目に関してはﾘｽﾄから選択して下さい"]
[null,"・","各ｾﾙのﾃﾞｰﾀ消去はBackspaceｷｰまたはDeleteｷｰを使用して下さい"]
[]
[null,"希望\n順位\n*",null,null,"品目\nコード",null,null,"分　　　　類 *",null,null,null,null,null,null,"主な取り扱い品目",null,null,null,null,null,null,null,null,null,null,null,null,null,null,null,null,null,null,null,null,null,null,null,"年商に\nしめる\n割合（％）"]
[1,null,null,null,{"$f":"IF(ISERROR(VLOOKUP(H11,mst!$D$2:$E$43,2,FALSE)),\"\",VLOOKUP(H11,mst!$D$2:$E$43,2,FALSE))","v":""},null,null,null,null,null,null,null,null,null,null,null,null,null,null,null,null,null,null,null,null,null,null,null,null,null,null,null,null,null,null,null,null,null,null,null,"%",null,{"$f":"IF(AND(O11<>\"\",B11=\"\"),1,0)","v":0}]
[2,null,null,null,{"$f":"IF(ISERROR(VLOOKUP(H12,mst!$D$2:$E$43,2,FALSE)),\"\",VLOOKUP(H12,mst!$D$2:$E$43,2,FALSE))","v":""},null,null,null,null,null,null,null,null,null,null,null,null,null,null,null,null,null,null,null,null,null,null,null,null,null,null,null,null,null,null,null,null,null,null,null,"%",null,{"$f":"IF(AND(O12<>\"\",B12=\"\"),1,0)","v":0}]
[3,null,null,null,{"$f":"IF(ISERROR(VLOOKUP(H13,mst!$D$2:$E$43,2,FALSE)),\"\",VLOOKUP(H13,mst!$D$2:$E$43,2,FALSE))","v":""},null,null,null,null,null,null,null,null,null,null,null,null,null,null,null,null,null,null,null,null,null,null,null,null,null,null,null,null,null,null,null,null,null,null,null,"%",null,0]
[4,null,null,null,{"$f":"IF(ISERROR(VLOOKUP(H14,mst!$D$2:$E$43,2,FALSE)),\"\",VLOOKUP(H14,mst!$D$2:$E$43,2,FALSE))","v":""},null,null,null,null,null,null,null,null,null,null,null,null,null,null,null,null,null,null,null,null,null,null,null,null,null,null,null,null,null,null,null,null,null,null,null,"%",null,0]
[5,null,null,null,{"$f":"IF(ISERROR(VLOOKUP(H15,mst!$D$2:$E$43,2,FALSE)),\"\",VLOOKUP(H15,mst!$D$2:$E$43,2,FALSE))","v":""},null,null,null,null,null,null,null,null,null,null,null,null,null,null,null,null,null,null,null,null,null,null,null,null,null,null,null,null,null,null,null,null,null,null,null,"%",null,0]
[6,null,null,null,{"$f":"IF(ISERROR(VLOOKUP(H16,mst!$D$2:$E$43,2,FALSE)),\"\",VLOOKUP(H16,mst!$D$2:$E$43,2,FALSE))","v":""},null,null,null,null,null,null,null,null,null,null,null,null,null,null,null,null,null,null,null,null,null,null,null,null,null,null,null,null,null,null,null,null,null,null,null,"%",null,0]
[7,null,null,null,{"$f":"IF(ISERROR(VLOOKUP(H17,mst!$D$2:$E$43,2,FALSE)),\"\",VLOOKUP(H17,mst!$D$2:$E$43,2,FALSE))","v":""},null,null,null,null,null,null,null,null,null,null,null,null,null,null,null,null,null,null,null,null,null,null,null,null,null,null,null,null,null,null,null,null,null,null,null,"%",null,0]
[8,null,null,null,{"$f":"IF(ISERROR(VLOOKUP(H18,mst!$D$2:$E$43,2,FALSE)),\"\",VLOOKUP(H18,mst!$D$2:$E$43,2,FALSE))","v":""},null,null,null,null,null,null,null,null,null,null,null,null,null,null,null,null,null,null,null,null,null,null,null,null,null,null,null,null,null,null,null,null,null,null,null,"%",null,0]
[9,null,null,null,{"$f":"IF(ISERROR(VLOOKUP(H19,mst!$D$2:$E$43,2,FALSE)),\"\",VLOOKUP(H19,mst!$D$2:$E$43,2,FALSE))","v":""},null,null,null,null,null,null,null,null,null,null,null,null,null,null,null,null,null,null,null,null,null,null,null,null,null,null,null,null,null,null,null,null,null,null,null,"%",null,0]
[10,null,null,null,{"$f":"IF(ISERROR(VLOOKUP(H20,mst!$D$2:$E$43,2,FALSE)),\"\",VLOOKUP(H20,mst!$D$2:$E$43,2,FALSE))","v":""},null,null,null,null,null,null,null,null,null,null,null,null,null,null,null,null,null,null,null,null,null,null,null,null,null,null,null,null,null,null,null,null,null,null,null,"%",null,0]
[11,null,null,null,{"$f":"IF(ISERROR(VLOOKUP(H21,mst!$D$2:$E$43,2,FALSE)),\"\",VLOOKUP(H21,mst!$D$2:$E$43,2,FALSE))","v":""},null,null,null,null,null,null,null,null,null,null,null,null,null,null,null,null,null,null,null,null,null,null,null,null,null,null,null,null,null,null,null,null,null,null,null,"%",null,0]
[12,null,null,null,{"$f":"IF(ISERROR(VLOOKUP(H22,mst!$D$2:$E$43,2,FALSE)),\"\",VLOOKUP(H22,mst!$D$2:$E$43,2,FALSE))","v":""},null,null,null,null,null,null,null,null,null,null,null,null,null,null,null,null,null,null,null,null,null,null,null,null,null,null,null,null,null,null,null,null,null,null,null,"%",null,0]
[13,null,null,null,{"$f":"IF(ISERROR(VLOOKUP(H23,mst!$D$2:$E$43,2,FALSE)),\"\",VLOOKUP(H23,mst!$D$2:$E$43,2,FALSE))","v":""},null,null,null,null,null,null,null,null,null,null,null,null,null,null,null,null,null,null,null,null,null,null,null,null,null,null,null,null,null,null,null,null,null,null,null,"%",null,0]
[14,null,null,null,{"$f":"IF(ISERROR(VLOOKUP(H24,mst!$D$2:$E$43,2,FALSE)),\"\",VLOOKUP(H24,mst!$D$2:$E$43,2,FALSE))","v":""},null,null,null,null,null,null,null,null,null,null,null,null,null,null,null,null,null,null,null,null,null,null,null,null,null,null,null,null,null,null,null,null,null,null,null,"%",null,0]
[15,null,null,null,{"$f":"IF(ISERROR(VLOOKUP(H25,mst!$D$2:$E$43,2,FALSE)),\"\",VLOOKUP(H25,mst!$D$2:$E$43,2,FALSE))","v":""},null,null,null,null,null,null,null,null,null,null,null,null,null,null,null,null,null,null,null,null,null,null,null,null,null,null,null,null,null,null,null,null,null,null,null,"%",null,0]
[16,null,null,null,{"$f":"IF(ISERROR(VLOOKUP(H26,mst!$D$2:$E$43,2,FALSE)),\"\",VLOOKUP(H26,mst!$D$2:$E$43,2,FALSE))","v":""},null,null,null,null,null,null,null,null,null,null,null,null,null,null,null,null,null,null,null,null,null,null,null,null,null,null,null,null,null,null,null,null,null,null,null,"%",null,0]
[17,null,null,null,{"$f":"IF(ISERROR(VLOOKUP(H27,mst!$D$2:$E$43,2,FALSE)),\"\",VLOOKUP(H27,mst!$D$2:$E$43,2,FALSE))","v":""},null,null,null,null,null,null,null,null,null,null,null,null,null,null,null,null,null,null,null,null,null,null,null,null,null,null,null,null,null,null,null,null,null,null,null,"%",null,0]
[18,null,null,null,{"$f":"IF(ISERROR(VLOOKUP(H28,mst!$D$2:$E$43,2,FALSE)),\"\",VLOOKUP(H28,mst!$D$2:$E$43,2,FALSE))","v":""},null,null,null,null,null,null,null,null,null,null,null,null,null,null,null,null,null,null,null,null,null,null,null,null,null,null,null,null,null,null,null,null,null,null,null,"%",null,0]
[19,null,null,null,{"$f":"IF(ISERROR(VLOOKUP(H29,mst!$D$2:$E$43,2,FALSE)),\"\",VLOOKUP(H29,mst!$D$2:$E$43,2,FALSE))","v":""},null,null,null,null,null,null,null,null,null,null,null,null,null,null,null,null,null,null,null,null,null,null,null,null,null,null,null,null,null,null,null,null,null,null,null,"%",null,0]
[20,null,null,null,{"$f":"IF(ISERROR(VLOOKUP(H30,mst!$D$2:$E$43,2,FALSE)),\"\",VLOOKUP(H30,mst!$D$2:$E$43,2,FALSE))","v":""},null,null,null,null,null,null,null,null,null,null,null,null,null,null,null,null,null,null,null,null,null,null,null,null,null,null,null,null,null,null,null,null,null,null,null,"%",null,0]

{"sheet":"入力画面(入力シートその３)","index":5,"n_rows":10,"n_cols":12,"rows_kept":10,"cut":false,"hidden":true,"merged":[[6,4,6,6],[7,4,7,6],[8,4,8,6],[9,4,9,6],[0,0,0,7],[1,4,1,6],[2,4,2,6],[3,4,3,6],[4,4,4,6],[5,4,5,6]]}
["登録等を受けている事業\n　　※入力の注意点\n　　・登録等を受けている事業が８つ以上の場合は別紙（任意様式）に記入のうえ提出してください。",null,null,null,null,null,null,null,null,null,null,"【入力シート　その３】"]
[null,"関連品目\nコード","品目分類名 *","許可・認可・資格等の種類","許可・認可・資格等登録番号",null,null,"許可・登録年月日",null,"例)"]
[1,{"$f":"IF(ISERROR(VLOOKUP(C3,mst!$D$2:$E$43,2,FALSE)),\"\",VLOOKUP(C3,mst!$D$2:$E$43,2,FALSE))","v":""},null,null,null,null,null,null,null,"許可・登録年月日　　s50/6/3　※1899/12/31以前の場合直接入力・・・例）明治32年12月31日"]
[2,{"$f":"IF(ISERROR(VLOOKUP(C4,mst!$D$2:$E$43,2,FALSE)),\"\",VLOOKUP(C4,mst!$D$2:$E$43,2,FALSE))","v":""}]
[3,{"$f":"IF(ISERROR(VLOOKUP(C5,mst!$D$2:$E$43,2,FALSE)),\"\",VLOOKUP(C5,mst!$D$2:$E$43,2,FALSE))","v":""}]
[4,{"$f":"IF(ISERROR(VLOOKUP(C6,mst!$D$2:$E$43,2,FALSE)),\"\",VLOOKUP(C6,mst!$D$2:$E$43,2,FALSE))","v":""}]
[5,{"$f":"IF(ISERROR(VLOOKUP(C7,mst!$D$2:$E$43,2,FALSE)),\"\",VLOOKUP(C7,mst!$D$2:$E$43,2,FALSE))","v":""}]
[6,{"$f":"IF(ISERROR(VLOOKUP(C8,mst!$D$2:$E$43,2,FALSE)),\"\",VLOOKUP(C8,mst!$D$2:$E$43,2,FALSE))","v":""}]
[7,{"$f":"IF(ISERROR(VLOOKUP(C9,mst!$D$2:$E$43,2,FALSE)),\"\",VLOOKUP(C9,mst!$D$2:$E$43,2,FALSE))","v":""}]
[8,{"$f":"IF(ISERROR(VLOOKUP(C10,mst!$D$2:$E$43,2,FALSE)),\"\",VLOOKUP(C10,mst!$D$2:$E$43,2,FALSE))","v":""}]

{"sheet":"入力・印刷兼用(役員名簿)","index":6,"n_rows":24,"n_cols":12,"rows_kept":24,"cut":false,"hidden":true,"merged":[[15,1,15,11],[1,0,1,11],[2,0,3,0],[2,1,3,1],[2,2,3,2],[2,3,3,3],[2,4,3,4],[2,5,3,5],[2,6,2,9],[2,10,3,10],[2,11,3,11]]}
[]
["会社役員名簿"]
["番号","法人名、商号、名称等　　　　　　　　　　　　　　（法人・団体等のみ記載）","所　　在　　地　　　　　　　　　　　　　　　　　　　　　（個人の場合は、住所）","役 職 名                          （法人・団体名等のみ記載）","フリガナ","氏　　名　　　　　　　　　　　　　　　（漢字表記）","生　年　月　日",null,null,null,"性別","備考"]
[null,null,null,null,null,null,"元号","年","月","日"]
[1]
[2]
[3]
[4]
[5]
[6]
[7]
[8]
[9]
[10]
[]
["＊１","個人の場合はその者、法人の場合は登記事項証明書（商業登記簿謄本）の「役員に関する事項」に記載のあるすべての者について記載してください。（監査役の記載漏れに注意）\n"]
[null,"なお、役員以外であっても、野洲市との取引上の一切の権限を委任された代理人（支店長等）についても記載してください。"]
[null,"個人の場合、役職名は空欄としてください。"]
["＊２","フリガナは半角（苗字名前の間に半角スペース有）で記載してください。（例：野洲　太郎　→　ﾔｽ ﾀﾛｳ）"]
["＊３","氏名（漢字表記）は全角（苗字名前の間に全角スペース有）で記載してください。（例：野洲　太郎）"]
["＊４","生年月日の元号は半角で次のとおりとしてください。【明治：「M」、大正：「T」、昭和：「S」、平成：「H」】"]
[null,"年月日は半角算用数字で記載してください。"]
["＊５","性別は全角で次のとおりとしてください。【男性：「Ｍ」、女性：「Ｆ」】"]
["＊６","行が不足する場合は、適宜追加してください。"]

{"sheet":"印刷画面","index":7,"n_rows":60,"n_cols":8,"rows_kept":60,"cut":false,"hidden":true,"merged":[]}
["印刷画面"]
[]
[null,"各提出書類を印刷またはプレビューすることができます。"]
[]
[null,"１．入力画面（入力シートその１～３）の必要な項目をすべて入力できましたら、下の一括印刷ボタンを"]
[null,"　　押して提出書類を印刷して下さい。"]
[null,"　（個別に書類を確認・印刷したい場合は下の各書類のプレビュー・印刷ボタンを押して下さい。）"]
[null,"　　　"]
[null,"２．各提出書類がすべて正しい内容で印刷できているか確認して下さい。"]
[null,"　　"]
[null,"３．提出書類確認後、このExcelファイルを保存して閉じて下さい。"]
[]
[null,"４．CD-RWにこのExcelファイルを保存して『CDラベル』をCDケースにのり付けして下さい。"]
[null,"　　ホームページからこのExcelファイルをダウンロード後、名前を変更した場合は『buppinteishutu.xls』"]
[null,"　　というファイル名に戻してからメディアに保存して下さい。"]
[]
[]
[]
[null,null,null,null,null,null,null,"一括印刷（指定様式全てが印刷できます）"]
[]
[]
[]
[]
[null,null,null,null,null,null,null,"入札参加資格審査申請書１"]
[]
[]
[null,null,null,null,null,null,null,"入札参加資格審査申請書２"]
[]
[]
[null,null,null,null,null,null,null,"経営規模等総括表"]
[]
[]
[null,null,null,null,null,null,null,"営業品目調書"]
[]
[]
[null,null,null,null,null,null,null,"誓約書"]
[]
[]
[null,null,null,null,null,null,null,"委任状"]
[]
[]
[null,null,null,null,null,null,null,"使用印鑑届"]
[]
[]
[null,null,null,null,null,null,null,"暴力団排除条例誓約書"]
[]
[]
[null,null,null,null,null,null,null,"役員名簿"]
[]
[]
[null,null,null,null,null,null,null,"市内事務所等調書"]
[]
[]
[null,null,null,null,null,null,null,"受理証"]
[]
[]
[null,null,null,null,null,null,null,"提出書類チェック表"]
[]
[]
[null,null,null,null,null,null,null,"CDラベル及び宛名ラベル"]

{"sheet":"印刷用（申請書１）","index":8,"n_rows":39,"n_cols":14,"rows_kept":39,"cut":false,"hidden":true,"merged":[[9,1,9,14],[2,1,3,10],[3,11,3,13],[4,11,5,13],[5,1,5,10],[7,10,7,13],[10,1,10,14],[11,1,11,14],[12,1,12,14],[13,1,28,1],[13,2,20,3],[13,4,14,4],[13,5,14,6],[13,7,14,7],[13,9,13,11],[13,13,13,14],[14,9,14,11],[14,12,16,15],[15,4,16,4],[15,5,15,6],[15,7,16,7],[15,9,15,11],[16,5,16,6],[16,9,16,11],[17,4,18,4],[17,5,17,6],[17,7,18,7],[17,9,17,11],[17,13,17,14],[18,5,18,6],[18,9,18,11],[18,12,20,15],[19,5,19,6],[19,9,19,11],[20,5,20,6],[20,9,20,11],[21,2,28,3],[21,4,22,4],[21,5,22,6],[21,7,22,7],[21,9,21,11],[25,4,26,4],[25,5,25,6],[25,7,26,7],[25,9,25,11],[21,13,21,14],[22,9,22,11],[22,12,24,15],[23,4,24,4],[23,5,23,6],[23,7,24,7],[23,9,23,11],[24,5,24,6],[24,9,24,11],[25,13,25,14],[26,5,26,6],[26,9,26,11],[26,12,28,15],[27,5,27,6],[27,9,27,11],[28,5,28,6],[28,9,28,11],[31,1,31,2],[31,3,31,5],[31,6,31,9],[31,10,31,15],[32,1,32,2],[32,3,32,5],[32,6,32,9],[32,10,32,15],[33,1,33,2],[33,3,33,5],[33,6,33,9],[33,10,33,15],[34,1,34,2],[34,3,34,5],[34,6,34,9],[34,10,34,15],[38,1,38,15],[35,1,35,2],[35,3,35,5],[35,6,35,9],[35,10,35,15],[36,1,36,2],[36,3,36,5],[36,6,36,9],[36,10,36,15]]}
[]
[null,"様式第3号の１"]
[null,"野洲市入札参加資格審査申請書"]
[null,null,null,null,null,null,null,null,null,null,null,"受付番号"]
[null,null,null,null,null,null,null,null,null,null,null,"Ｂ－　　　　"]
[null,"（物品供給及び役務提供等）"]
[]
[null,null,null,null,null,null,null,null,null,null,"令和　　　年　　　月　　　日"]
[null,"　　野洲市長　様"]
[null,"　　令和６・７年度において、野洲市で行われる物品供給および役務提供業務の入札に"]
[null,"　参加する資格の申請をします。"]
[null,"　　なお、この申請書および添付書類の内容は、事実と相違ないこと、ならびに私的独占の禁止およ"]
[null,"　び公正取引の確保に関する法律その他関係諸法令を遵守することを誓約します。"]
[null,"申　　　　請　　　　者","本　　店　　欄",null,null,"住所",null,null,"〒","##### 入力漏れがあります #####",null,null,null,"商号又は名称印"]
[null,null,null,null,null,null,null,null,null,"##### 入力漏れがあります #####"]
[null,null,null,null,null,"フリカナ",null,null,null,"##### 入力漏れがあります #####"]
[null,null,null,null,null,"商号又は名称",null,null,null,"##### 入力漏れがあります #####"]
[null,null,null,null,null,"フリカナ",null,null,null,"##### 入力漏れがあります #####",null,null,null,"代表者印(実印)"]
[null,null,null,null,null,"代表者職氏名",null,null,null,"##### 入力漏れがあります #####"]
[null,null,null,null,null,"電話番号",null,null,null,"##### 入力漏れがあります #####"]
[null,null,null,null,null,"ＦＡＸ番号",null,null,null,""]
[null,null,"受　　任　　欄",null,null,"住所",null,null,"〒",null,null,null,null,"受任支店等の名称印"]
[]
[null,null,null,null,null,"フリカナ"]
[null,null,null,null,null,"商号又は名称"]
[null,null,null,null,null,"フリカナ",null,null,null,"",null,null,null,"受任者(使用)印"]
[null,null,null,null,null,"受任者職氏名"]
[null,null,null,null,null,"電話番号",null,null,null,""]
[null,null,null,null,null,"ＦＡＸ番号",null,null,null,""]
[]
[null,"　登録を希望する営業品目"]
[null,"希望順位",null,"品目\nコード",null,null,"分類名（品目分類表参照）",null,null,null,"希望する主な取り扱い品目（品目分類表を参照に記載）"]
[null,"第1希望",null,{"$f":"IF(ISERROR(VLOOKUP(1,sys!$C$2:$G$21,2,FALSE)),\"\",VLOOKUP(1,sys!$C$2:$G$21,2,FALSE))","v":""},null,null,{"$f":"IF(ISERROR(VLOOKUP(1,sys!$C$2:$G$21,3,FALSE)),\"\",VLOOKUP(1,sys!$C$2:$G$21,3,FALSE))","v":""},null,null,null,{"$f":"IF(ISERROR(VLOOKUP(1,sys!$C$2:$G$21,4,FALSE)),\"\",VLOOKUP(1,sys!$C$2:$G$21,4,FALSE))","v":""}]
[null,"第2希望",null,{"$f":"IF(ISERROR(VLOOKUP(2,sys!$C$2:$G$21,2,FALSE)),\"\",VLOOKUP(2,sys!$C$2:$G$21,2,FALSE))","v":""},null,null,{"$f":"IF(ISERROR(VLOOKUP(2,sys!$C$2:$G$21,3,FALSE)),\"\",VLOOKUP(2,sys!$C$2:$G$21,3,FALSE))","v":""},null,null,null,{"$f":"IF(ISERROR(VLOOKUP(2,sys!$C$2:$G$21,4,FALSE)),\"\",VLOOKUP(2,sys!$C$2:$G$21,4,FALSE))","v":""}]
[null,"第3希望",null,{"$f":"IF(ISERROR(VLOOKUP(3,sys!$C$2:$G$21,2,FALSE)),\"\",VLOOKUP(3,sys!$C$2:$G$21,2,FALSE))","v":""},null,null,{"$f":"IF(ISERROR(VLOOKUP(3,sys!$C$2:$G$21,3,FALSE)),\"\",VLOOKUP(3,sys!$C$2:$G$21,3,FALSE))","v":""},null,null,null,{"$f":"IF(ISERROR(VLOOKUP(3,sys!$C$2:$G$21,4,FALSE)),\"\",VLOOKUP(3,sys!$C$2:$G$21,4,FALSE))","v":""}]
[null,"第4希望",null,{"$f":"IF(ISERROR(VLOOKUP(4,sys!$C$2:$G$21,2,FALSE)),\"\",VLOOKUP(4,sys!$C$2:$G$21,2,FALSE))","v":""},null,null,{"$f":"IF(ISERROR(VLOOKUP(4,sys!$C$2:$G$21,3,FALSE)),\"\",VLOOKUP(4,sys!$C$2:$G$21,3,FALSE))","v":""},null,null,null,{"$f":"IF(ISERROR(VLOOKUP(4,sys!$C$2:$G$21,4,FALSE)),\"\",VLOOKUP(4,sys!$C$2:$G$21,4,FALSE))","v":""}]
[null,"第5希望",null,{"$f":"IF(ISERROR(VLOOKUP(5,sys!$C$2:$G$21,2,FALSE)),\"\",VLOOKUP(5,sys!$C$2:$G$21,2,FALSE))","v":""},null,null,{"$f":"IF(ISERROR(VLOOKUP(5,sys!$C$2:$G$21,3,FALSE)),\"\",VLOOKUP(5,sys!$C$2:$G$21,3,FALSE))","v":""},null,null,null,{"$f":"IF(ISERROR(VLOOKUP(5,sys!$C$2:$G$21,4,FALSE)),\"\",VLOOKUP(5,sys!$C$2:$G$21,4,FALSE))","v":""}]
[]
[null,1]

{"sheet":"印刷用（申請書２）","index":9,"n_rows":38,"n_cols":18,"rows_kept":38,"cut":false,"hidden":true,"merged":[[3,1,3,3],[3,4,3,10],[3,11,3,16],[3,17,3,18],[4,1,4,3],[4,4,4,10],[4,11,4,16],[4,17,4,18],[5,1,5,3],[5,4,5,10],[5,11,5,16],[5,17,5,18],[6,1,6,3],[6,4,6,10],[6,11,6,16],[6,17,6,18],[7,1,7,3],[7,4,7,10],[7,11,7,16],[7,17,7,18],[8,1,8,3],[8,4,8,10],[8,11,8,16],[8,17,8,18],[9,1,9,3],[9,4,9,10],[9,11,9,16],[9,17,9,18],[10,1,10,3],[10,4,10,10],[10,11,10,16],[10,17,10,18],[11,1,11,3],[11,4,11,10],[11,11,11,16],[11,17,11,18],[13,1,14,1],[13,2,14,4],[13,5,14,5],[13,6,14,11],[13,12,14,13],[13,15,14,15],[19,2,19,4],[19,6,19,13],[37,1,37,18],[13,16,13,17],[14,16,14,17],[16,2,16,4],[16,6,16,7],[16,10,16,12],[18,2,18,4],[18,6,18,13]]}
[]
[null,"　様式第3号の１"]
[null,"　営業に関し必要な許可・認可・資格等"]
[null,"関　連\nコード\n番　号",null,null,"許可・認可・資格等の種類",null,null,null,null,null,null,"許可・認可・資格等の登録番号",null,null,null,null,null,"許可・登録等年月日"]
[null,{"$f":"IF(sys!Q2=\"\",\"\",sys!Q2)","v":""},null,null,{"$f":"IF(sys!R2=\"\",\"\",sys!R2)","v":""},null,null,null,null,null,null,{"$f":"IF(sys!S2=\"\",\"\",sys!S2)","v":""},null,null,null,null,null,{"$f":"IF(sys!T2=\"\",\"\",sys!T2)","v":""}]
[null,{"$f":"IF(sys!Q3=\"\",\"\",sys!Q3)","v":""},null,null,{"$f":"IF(sys!R3=\"\",\"\",sys!R3)","v":""},null,null,null,null,null,null,{"$f":"IF(sys!S3=\"\",\"\",sys!S3)","v":""},null,null,null,null,null,{"$f":"IF(sys!T3=\"\",\"\",sys!T3)","v":""}]
[null,{"$f":"IF(sys!Q4=\"\",\"\",sys!Q4)","v":""},null,null,{"$f":"IF(sys!R4=\"\",\"\",sys!R4)","v":""},null,null,null,null,null,null,{"$f":"IF(sys!S4=\"\",\"\",sys!S4)","v":""},null,null,null,null,null,{"$f":"IF(sys!T4=\"\",\"\",sys!T4)","v":""}]
[null,{"$f":"IF(sys!Q5=\"\",\"\",sys!Q5)","v":""},null,null,{"$f":"IF(sys!R5=\"\",\"\",sys!R5)","v":""},null,null,null,null,null,null,{"$f":"IF(sys!S5=\"\",\"\",sys!S5)","v":""},null,null,null,null,null,{"$f":"IF(sys!T5=\"\",\"\",sys!T5)","v":""}]
[null,{"$f":"IF(sys!Q6=\"\",\"\",sys!Q6)","v":""},null,null,{"$f":"IF(sys!R6=\"\",\"\",sys!R6)","v":""},null,null,null,null,null,null,{"$f":"IF(sys!S6=\"\",\"\",sys!S6)","v":""},null,null,null,null,null,{"$f":"IF(sys!T6=\"\",\"\",sys!T6)","v":""}]
[null,{"$f":"IF(sys!Q7=\"\",\"\",sys!Q7)","v":""},null,null,{"$f":"IF(sys!R7=\"\",\"\",sys!R7)","v":""},null,null,null,null,null,null,{"$f":"IF(sys!S7=\"\",\"\",sys!S7)","v":""},null,null,null,null,null,{"$f":"IF(sys!T7=\"\",\"\",sys!T7)","v":""}]
[null,{"$f":"IF(sys!Q8=\"\",\"\",sys!Q8)","v":""},null,null,{"$f":"IF(sys!R8=\"\",\"\",sys!R8)","v":""},null,null,null,null,null,null,{"$f":"IF(sys!S8=\"\",\"\",sys!S8)","v":""},null,null,null,null,null,{"$f":"IF(sys!T8=\"\",\"\",sys!T8)","v":""}]
[null,{"$f":"IF(sys!Q9=\"\",\"\",sys!Q9)","v":""},null,null,{"$f":"IF(sys!R9=\"\",\"\",sys!R9)","v":""},null,null,null,null,null,null,{"$f":"IF(sys!S9=\"\",\"\",sys!S9)","v":""},null,null,null,null,null,{"$f":"IF(sys!T9=\"\",\"\",sys!T9)","v":""}]
[]
[null,null,"営業年数",null,null,null,{"$f":"IF(sys!B38=\"\",\"\",sys!B38)","v":""},null,null,null,null,null,"年",null,null,"ＩＳＯ","９００１"]
[null,null,null,null,null,null,null,null,null,null,null,null,null,null,null,null,"１４００１"]
[]
[null,null,"従業員数",null,null,null,{"$f":"IF(sys!B33=\"\",\"\",sys!B33)","v":""},null,"人","うち技術系\n従業員",{"$f":"IF(sys!B34=\"\",\"\",sys!B34)","v":""},null,null,"人"]
[]
[null,null,"フリカナ",null,null,null,{"$f":"IF('入力画面(入力シートその１)'!G58=\"\",\"\",'入力画面(入力シートその１)'!G58)","v":""}]
[null,null,"申請担当者名",null,null,null,{"$f":"IF('入力画面(入力シートその１)'!G59=\"\",\"\",'入力画面(入力シートその１)'!G59)","v":""}]
[]
[]
[]
[]
[]
[]
[]
[]
[]
[]
[]
[]
[]
[]
[]
[]
[]
[null,2]

{"sheet":"印刷用（経営規模等総括表）","index":10,"n_rows":36,"n_cols":20,"rows_kept":36,"cut":false,"hidden":true,"merged":[[5,17,6,20],[1,1,1,8],[2,1,2,20],[3,1,4,1],[3,2,4,6],[3,7,4,7],[3,8,4,20],[5,1,6,1],[5,2,6,6],[5,7,6,7],[5,8,6,15],[5,16,6,16],[7,1,10,2],[7,3,10,3],[7,4,8,6],[7,7,10,7],[7,8,8,20],[9,4,10,6],[9,8,10,15],[9,16,10,16],[9,17,10,20],[11,1,18,2],[11,3,12,3],[11,4,12,6],[11,7,12,7],[11,8,12,8],[15,3,16,3],[15,4,16,6],[15,7,16,7],[15,8,16,8],[11,12,12,20],[13,3,14,3],[13,4,13,6],[13,7,14,7],[13,8,14,8],[13,9,13,11],[13,12,13,20],[14,4,14,6],[14,9,14,11],[14,12,14,20],[11,9,12,11],[15,9,16,11],[15,12,16,20],[17,3,18,3],[17,4,18,6],[17,7,18,7],[17,9,18,11],[17,12,18,20],[19,2,20,6],[19,9,20,11],[19,12,20,20],[21,2,21,6],[21,9,22,11],[21,12,22,20],[22,2,22,6],[23,20,24,20],[25,2,26,6],[25,8,26,8],[25,9,26,11],[25,12,26,12],[25,13,26,13],[25,14,26,19],[25,20,26,20],[23,1,24,3],[23,4,24,9],[23,10,24,10],[23,11,24,11],[23,12,24,16],[23,17,24,19],[31,2,32,6],[31,8,32,12],[31,14,32,18],[31,19,32,20],[27,2,28,6],[27,9,27,10],[27,14,28,18],[27,19,28,20],[28,9,28,10],[29,2,29,6],[29,9,29,10],[29,14,30,18],[29,19,30,20],[30,2,30,4],[30,9,30,10]]}
[]
[null,"様式第３号の２"]
[null,"経　 営　 規　 模　 等　 総　 括　 表"]
[null,null,"商号又は名称",null,null,null,null,null,"##### 入力漏れがあります #####"]
[]
[null,null,"本店所在地",null,null,null,null,null,"##### 入力漏れがあります #####",null,null,null,null,null,null,null,"電話","##### 入力漏れがあります #####"]
[]
[null,"委任先",null,null,"商号又は名称"]
[]
[null,null,null,null,"所在地",null,null,null,null,null,null,null,null,null,null,null,"電話",""]
[]
[null,"営業年数等",null,null,"創業",null,null,null,null,{"$f":"IF(sys!B37=\"\",\"　　　　　年　　　月　　　日\",TEXT(sys!B37,\"ggg　e　年　m　月　d　日\"))","v":"　　　　　年　　　月　　　日"}]
[]
[null,null,null,null,"休業又は",null,null,null,null,{"$f":"IF('入力画面(入力シートその１)'!G32=\"\",\"　　　　　年　　　月　　　日\",TEXT('入力画面(入力シートその１)'!G32,\"ggg　e　年　m　月　d　日\"))","v":"　　　　　年　　　月　　　日"},null,null,"から"]
[null,null,null,null,"廃業の期間",null,null,null,null,{"$f":"IF('入力画面(入力シートその１)'!G33=\"\",\"　　　　　年　　　月　　　日\",TEXT('入力画面(入力シートその１)'!G33,\"ggg　e　年　m　月　d　日\"))","v":"　　　　　年　　　月　　　日"},null,null,"まで"]
[null,null,null,null,"現組織への変更",null,null,null,null,{"$f":"IF('入力画面(入力シートその１)'!G34=\"\",\"　　　　　年　　　月　　　日\",TEXT('入力画面(入力シートその１)'!G34,\"ggg　e　年　m　月　d　日\"))","v":"　　　　　年　　　月　　　日"}]
[]
[null,null,null,null,"営業年数",null,null,null,null,{"$f":"IF(sys!B38=\"\",\"\",sys!B38)","v":""},null,null,"年"]
[]
[null,null,"常勤の従業員数",null,null,null,null,null,null,{"$f":"IF(sys!B33=\"\",\"\",sys!B33)","v":""},null,null,"人"]
[]
[null,null,"資本金",null,null,null,null,null,null,{"$f":"IF(sys!B31=\"\",\"\",TEXT(sys!B31,\"#,###\"))","v":""},null,null,"千円"]
[null,null,"（法人の場合）"]
[null,null,null,null,"物　品　販　売　等　実　績　高",null,null,null,null,null,null,null,"（直前１ヵ年）"]
[]
[null,null,"業種区分",null,null,null,null,null,null,"決　　　算　　　期　　　間",null,null,null,null,"実　　　　　績　　　　　高"]
[]
[null,null,"物品販売",null,null,null,null,null,null,{"$f":"IF('入力画面(入力シートその１)'!H47=\"\",TEXT(NOW(),\"GGG\") & \"　年　月　日\",TEXT('入力画面(入力シートその１)'!H47,\"ggge年m月d日\"))","v":"令和　年　月　日"},null,"から",null,null,{"$f":"IF('入力画面(入力シートその１)'!P47=\"\",\"\",TEXT('入力画面(入力シートその１)'!P47,\"#,###\"))","v":""},null,null,null,null,"千円"]
[null,null,null,null,null,null,null,null,null,{"$f":"IF('入力画面(入力シートその１)'!H48=\"\",TEXT(NOW(),\"GGG\") & \"　年　月　日\",TEXT('入力画面(入力シートその１)'!H48,\"ggge年m月d日\"))","v":"令和　年　月　日"},null,"まで"]
[null,null,"物品販売以外の業種",null,null,null,null,null,null,{"$f":"IF('入力画面(入力シートその１)'!H49=\"\",TEXT(NOW(),\"GGG\") & \"　年　月　日\",TEXT('入力画面(入力シートその１)'!H49,\"ggge年m月d日\"))","v":"令和　年　月　日"},null,"から",null,null,{"$f":"IF('入力画面(入力シートその１)'!P49=\"\",\"\",TEXT('入力画面(入力シートその１)'!P49,\"#,###\"))","v":""},null,null,null,null,"千円"]
[null,null,"(業種名",null,null,{"$f":"IF('入力画面(入力シートその１)'!D50=\"\",\"\",'入力画面(入力シートその１)'!D50)","v":""},")",null,null,{"$f":"IF('入力画面(入力シートその１)'!H50=\"\",TEXT(NOW(),\"GGG\") & \"　年　月　日\",TEXT('入力画面(入力シートその１)'!H50,\"ggge年m月d日\"))","v":"令和　年　月　日"},null,"まで"]
[null,null,"合計実績高",null,null,null,null,null,null,null,null,null,null,null,{"$f":"IF(sys!B39=\"\",\"\",TEXT(sys!B39,\"#,###\"))","v":""},null,null,null,null,"千円"]
[]
[]
[null,"＊　本社 （会社全体） について記入すること。"]
[null,"＊　委任先の欄は、該当する場合にのみ記入すること。"]

{"sheet":"印刷用（営業品目調書）","index":11,"n_rows":32,"n_cols":6,"rows_kept":32,"cut":false,"hidden":true,"merged":[[2,1,2,5]]}
[]
[null,"様式第３号の３"]
[null,"営　業　品　目　調　書"]
[null,"営業の種類"]
[null,null,"品目コード","分　　類","主　な　取　り　扱　い　品　目","年商にしめる割合"]
[null,null,null,null,null,"　（％）　で記入"]
[null,null,{"$f":"IF(sys!D2=\"\",\"\",sys!D2)","v":""},{"$f":"IF(sys!E2=\"\",\"\",sys!E2)","v":""},{"$f":"IF(sys!F2=\"\",\"\",sys!F2)","v":""},{"$f":"IF(sys!G2=\"\",\"\",sys!G2)","v":""}]
[null,null,{"$f":"IF(sys!D3=\"\",\"\",sys!D3)","v":""},{"$f":"IF(sys!E3=\"\",\"\",sys!E3)","v":""},{"$f":"IF(sys!F3=\"\",\"\",sys!F3)","v":""},{"$f":"IF(sys!G3=\"\",\"\",sys!G3)","v":""}]
[null,null,{"$f":"IF(sys!D4=\"\",\"\",sys!D4)","v":""},{"$f":"IF(sys!E4=\"\",\"\",sys!E4)","v":""},{"$f":"IF(sys!F4=\"\",\"\",sys!F4)","v":""},{"$f":"IF(sys!G4=\"\",\"\",sys!G4)","v":""}]
[null,null,{"$f":"IF(sys!D5=\"\",\"\",sys!D5)","v":""},{"$f":"IF(sys!E5=\"\",\"\",sys!E5)","v":""},{"$f":"IF(sys!F5=\"\",\"\",sys!F5)","v":""},{"$f":"IF(sys!G5=\"\",\"\",sys!G5)","v":""}]
[null,null,{"$f":"IF(sys!D6=\"\",\"\",sys!D6)","v":""},{"$f":"IF(sys!E6=\"\",\"\",sys!E6)","v":""},{"$f":"IF(sys!F6=\"\",\"\",sys!F6)","v":""},{"$f":"IF(sys!G6=\"\",\"\",sys!G6)","v":""}]
[null,null,{"$f":"IF(sys!D7=\"\",\"\",sys!D7)","v":""},{"$f":"IF(sys!E7=\"\",\"\",sys!E7)","v":""},{"$f":"IF(sys!F7=\"\",\"\",sys!F7)","v":""},{"$f":"IF(sys!G7=\"\",\"\",sys!G7)","v":""}]
[null,null,{"$f":"IF(sys!D8=\"\",\"\",sys!D8)","v":""},{"$f":"IF(sys!E8=\"\",\"\",sys!E8)","v":""},{"$f":"IF(sys!F8=\"\",\"\",sys!F8)","v":""},{"$f":"IF(sys!G8=\"\",\"\",sys!G8)","v":""}]
[null,null,{"$f":"IF(sys!D9=\"\",\"\",sys!D9)","v":""},{"$f":"IF(sys!E9=\"\",\"\",sys!E9)","v":""},{"$f":"IF(sys!F9=\"\",\"\",sys!F9)","v":""},{"$f":"IF(sys!G9=\"\",\"\",sys!G9)","v":""}]
[null,null,{"$f":"IF(sys!D10=\"\",\"\",sys!D10)","v":""},{"$f":"IF(sys!E10=\"\",\"\",sys!E10)","v":""},{"$f":"IF(sys!F10=\"\",\"\",sys!F10)","v":""},{"$f":"IF(sys!G10=\"\",\"\",sys!G10)","v":""}]
[null,null,{"$f":"IF(sys!D11=\"\",\"\",sys!D11)","v":""},{"$f":"IF(sys!E11=\"\",\"\",sys!E11)","v":""},{"$f":"IF(sys!F11=\"\",\"\",sys!F11)","v":""},{"$f":"IF(sys!G11=\"\",\"\",sys!G11)","v":""}]
[null,null,{"$f":"IF(sys!D12=\"\",\"\",sys!D12)","v":""},{"$f":"IF(sys!E12=\"\",\"\",sys!E12)","v":""},{"$f":"IF(sys!F12=\"\",\"\",sys!F12)","v":""},{"$f":"IF(sys!G12=\"\",\"\",sys!G12)","v":""}]
[null,null,{"$f":"IF(sys!D13=\"\",\"\",sys!D13)","v":""},{"$f":"IF(sys!E13=\"\",\"\",sys!E13)","v":""},{"$f":"IF(sys!F13=\"\",\"\",sys!F13)","v":""},{"$f":"IF(sys!G13=\"\",\"\",sys!G13)","v":""}]
[null,null,{"$f":"IF(sys!D14=\"\",\"\",sys!D14)","v":""},{"$f":"IF(sys!E14=\"\",\"\",sys!E14)","v":""},{"$f":"IF(sys!F14=\"\",\"\",sys!F14)","v":""},{"$f":"IF(sys!G14=\"\",\"\",sys!G14)","v":""}]
[null,null,{"$f":"IF(sys!D15=\"\",\"\",sys!D15)","v":""},{"$f":"IF(sys!E15=\"\",\"\",sys!E15)","v":""},{"$f":"IF(sys!F15=\"\",\"\",sys!F15)","v":""},{"$f":"IF(sys!G15=\"\",\"\",sys!G15)","v":""}]
[null,null,{"$f":"IF(sys!D16=\"\",\"\",sys!D16)","v":""},{"$f":"IF(sys!E16=\"\",\"\",sys!E16)","v":""},{"$f":"IF(sys!F16=\"\",\"\",sys!F16)","v":""},{"$f":"IF(sys!G16=\"\",\"\",sys!G16)","v":""}]
[null,null,{"$f":"IF(sys!D17=\"\",\"\",sys!D17)","v":""},{"$f":"IF(sys!E17=\"\",\"\",sys!E17)","v":""},{"$f":"IF(sys!F17=\"\",\"\",sys!F17)","v":""},{"$f":"IF(sys!G17=\"\",\"\",sys!G17)","v":""}]
[null,null,{"$f":"IF(sys!D18=\"\",\"\",sys!D18)","v":""},{"$f":"IF(sys!E18=\"\",\"\",sys!E18)","v":""},{"$f":"IF(sys!F18=\"\",\"\",sys!F18)","v":""},{"$f":"IF(sys!G18=\"\",\"\",sys!G18)","v":""}]
[null,null,{"$f":"IF(sys!D19=\"\",\"\",sys!D19)","v":""},{"$f":"IF(sys!E19=\"\",\"\",sys!E19)","v":""},{"$f":"IF(sys!F19=\"\",\"\",sys!F19)","v":""},{"$f":"IF(sys!G19=\"\",\"\",sys!G19)","v":""}]
[null,null,{"$f":"IF(sys!D20=\"\",\"\",sys!D20)","v":""},{"$f":"IF(sys!E20=\"\",\"\",sys!E20)","v":""},{"$f":"IF(sys!F20=\"\",\"\",sys!F20)","v":""},{"$f":"IF(sys!G20=\"\",\"\",sys!G20)","v":""}]
[null,null,{"$f":"IF(sys!D21=\"\",\"\",sys!D21)","v":""},{"$f":"IF(sys!E21=\"\",\"\",sys!E21)","v":""},{"$f":"IF(sys!F21=\"\",\"\",sys!F21)","v":""},{"$f":"IF(sys!G21=\"\",\"\",sys!G21)","v":""}]
[]
[null,"＊　品目コードは別紙品目分類表を参照してください。"]
[null,"＊　主な取り扱い品目は品目名・取扱メーカー名・代理店・特約店名等を記入してください。"]
[null,"＊　「品目２３　（その他の物品製造・販売）・４１　（その他の役務提供）」　を希望する場合は、業務内容を"]
[null,"　　詳しく記入してください。"]
[null,"＊　年商にしめる割合は合計１００％に達しなくても結構です。"]

{"sheet":"印刷用（誓約書）","index":12,"n_rows":19,"n_cols":9,"rows_kept":19,"cut":false,"hidden":true,"merged":[[10,1,10,8],[5,1,5,9],[6,1,6,8],[7,1,7,8],[8,1,8,8],[9,1,9,8],[12,6,12,8],[15,6,15,9],[16,6,16,9],[17,6,17,9],[18,6,18,7]]}
[]
[null,"様式第３号の４"]
[null,null,null,null,null,null,null,"受付番号"]
[null,null,null,null,null,null,null," Ｂ"]
[]
[null,"誓　約　書"]
[null,"　野洲市からの発注に対し、要求に応じられないにもかかわらず入札・見積等をし、納期の遅延"]
[null,"その他不当または不備により事務執行に支障を生じ迷惑をおよぼした場合には、直ちに指示に従"]
[null,"い、自己の負担において物品の取替・補償・その他一切の責任をとることは勿論、指名、見積依"]
[null,"頼を市に無届で辞退したり（辞退届けは文書に限る）、入札日時・見積書提出期限に遅延したと"]
[null,"きは、以後入札参加停止等の処分を受けることがあっても、なんら異議のないことを誓約します。"]
[]
[null,null,null,null,null,null,"令和　　年　　月　　日"]
[null,null,"野洲市長　様"]
[null,null,null,"本　社"]
[null,null,null,null,"所在地または住所",null,"##### 入力漏れがあります #####"]
[null,null,null,null,"商号または名称",null,"##### 入力漏れがあります #####"]
[null,null,null,null,"代表者職氏名",null,""]
[null,null,null,null,null,null,"##### 入力漏れがあります #####",null,"印(実印)"]

{"sheet":"印刷用（委任状）","index":13,"n_rows":45,"n_cols":12,"rows_kept":45,"cut":false,"hidden":true,"merged":[[2,1,4,12],[8,3,8,10],[9,3,9,4],[9,5,9,10],[9,11,11,11],[10,3,10,4],[10,5,10,10],[11,3,11,4],[11,5,11,10],[44,9,44,11],[18,2,18,12],[31,3,31,6],[31,8,31,10],[33,10,33,12],[39,5,39,7],[39,9,40,12],[41,3,41,4],[41,5,41,7],[41,9,42,12],[43,5,43,7],[43,9,43,12]]}
[]
[null,"共通様式１号"]
[null,"委　　任　　状"]
[]
[]
[]
[]
[]
[null,null,null,"受 任 者 （ 代 理 人 ）",null,null,null,null,null,null,null,"受任者使用印"]
[null,null,null,"住　　　　　　所",null,"##### 入力漏れがあります #####"]
[null,null,null,"商号又は名称",null,"##### 入力漏れがあります #####"]
[null,null,null,"代表者の氏名",null,"##### 入力漏れがあります #####"]
[]
[]
[]
[null,null,"　上記の者を代理人と定め、下記事項に関する一切の権限を委任します。"]
[]
[]
[null,null,"記"]
[]
[]
[]
[null,null,"委任事項"]
[null,null,"　１．入札及び見積に関する件"]
[null,null,"　２．契約締結に関する件"]
[null,null,"　３．入札保証金及び契約保証金の納付及び還付に関する件"]
[null,null,"　４．契約代金の請求に関する件"]
[null,null,"　５．復代理人の選任に関する件"]
[null,null,"　６．その他契約に関する一切の件"]
[]
[null,null,"委任期間"]
[null,null,null,"2024-04-01",null,null,null,"から","2026-03-31",null,null,"まで"]
[]
[null,null,null,null,null,null,null,null,null,null,"令和　　　年　　　月　　　日"]
[]
[null,null,"契約担当者"]
[null,null,"　野洲市長　様"]
[]
[]
[null,null,null,null,null,"住所",null,null,null,"##### 入力漏れがあります #####"]
[]
[null,null,null,"（委任者）　",null,"商号又は名称",null,null,null,"##### 入力漏れがあります #####"]
[]
[null,null,null,null,null,"代表者の氏名"]
[null,null,null,null,null,null,null,null,null,"##### 入力漏れがあります #####"]

{"sheet":"印刷用(使用印鑑届)","index":14,"n_rows":41,"n_cols":9,"rows_kept":41,"cut":false,"hidden":true,"merged":[[13,3,13,4],[13,8,13,10],[2,1,4,11],[11,3,11,4],[11,8,11,10],[12,3,12,4],[12,8,12,10],[40,8,40,14],[23,3,23,5],[37,4,37,6],[37,8,37,14],[38,4,38,6],[38,8,38,14],[39,4,39,6],[39,8,39,14]]}
[]
[null,"共通様式２号"]
[null,"使　用　印　鑑　届"]
[]
[]
[]
[]
[]
[]
[]
[]
[null,null,null,"商号印",null,null,null,null,"使用印"]
[]
[null,null,null,"取引に使用する商号（社）印",null,null,null,null,"取引に使用する代表者（使用）印"]
[]
[]
[]
[]
[null,"　上記の印鑑は、入札、見積に参加し、契約の締結並びに代金の請求及び受領"]
[null,"のために使用したいのでお届けします。"]
[]
[]
[]
[null,null,null,"令和　　　年　　　月　　　日"]
[]
[]
[]
[]
[]
[null,null,"契約担当者"]
[null,null,null,"野洲市長　様"]
[]
[]
[]
[]
[]
[]
[null,null,null,null,"住所",null,null,null,"##### 入力漏れがあります #####"]
[null,null,null,null,"商号又は名称",null,null,null,"##### 入力漏れがあります #####"]
[null,null,null,null,"代表者の氏名"]
[null,null,null,null,null,null,null,null,"##### 入力漏れがあります #####"]

{"sheet":"印刷用(暴力団排除条例誓約書)","index":15,"n_rows":39,"n_cols":8,"rows_kept":39,"cut":false,"hidden":true,"merged":[[38,5,38,6],[0,1,1,8],[8,1,8,8],[35,5,35,8],[36,5,36,8],[37,5,37,8]]}
[null,"誓　　　　約　　　　書"]
[]
[]
[null,"　野洲市入札参加資格審査申請に関し、野洲市暴力団排除条例により、下記の"]
[null,"事項について、事実と相違ないことを誓約します。"]
[null,"　なお、市が必要な場合には、誓約書および会社役員名簿を滋賀県警察本部に"]
[null,"提出することについて承諾します。"]
[]
[null,"記"]
[]
[null,"１　　自己または自社もしくは自社の役員等（別紙）が、次の各号のいずれに"]
[null,"　　も該当する者ではありません。"]
[null,"　（１）暴力団（暴力団員による不当な行為の防止等に関する法律（平成３年"]
[null,"　　　法律第７７号。以下「法」という。）第２条第２号に規定する暴力団をい"]
[null,"　　　う。以下同じ。）"]
[null,"　（２）暴力団員（法第２条第６号に規定する暴力団員をいう。以下同じ。）"]
[null,"　（３）自己、自社もしくは第三者の不正の利益を図る目的または第三者に損"]
[null,"　　　害を与える目的をもって、暴力団または暴力団員を利用している者"]
[null,"　（４）暴力団または暴力団員に対して資金等を供給し、または便宜を供与す"]
[null,"　　　るなど、直接的もしくは積極的に暴力団の維持、運営に協力し、または"]
[null,"　　　関与している者"]
[null,"　（５）暴力団または暴力団員と社会的に非難されるべき関係を有している者"]
[null,"　（６）上記（１）から（５）までのいずれかに該当する者であることを知り"]
[null,"　　　ながら、これを不当に利用するなどしている者"]
[]
[null,"２　　１の（２）から（６）に掲げる者が、その経営に実質的に関与している"]
[null,"　　法人その他の団体または個人ではありません。"]
[]
[null,"３　　上記１に該当した場合および２の関与が認められた場合は、申請を取消"]
[null,"　　されても異議ありません。"]
[]
[]
[null,null,null,null,null,null,null,"令和　　年　　月　　日"]
[]
[null,"野洲市長　様"]
[null,null,null,"所在地：",null,"##### 入力漏れがあります #####"]
[null,null,null,"商号または名称：",null,"##### 入力漏れがあります #####"]
[null,null,null,"代表者職氏名：",null,""]
[null,null,null,null,null,"##### 入力漏れがあります #####",null,"印（実印）"]

{"sheet":"印刷用(市内事務所等調書)","index":16,"n_rows":37,"n_cols":11,"rows_kept":37,"cut":false,"hidden":true,"merged":[[2,1,2,11],[3,5,3,11],[4,5,4,11],[5,9,5,11],[8,2,8,11]]}
[]
[null,"様式第３号の５"]
[null,"市　内　事　務　所　等　調　書"]
[null,null,"商号または名称",null,null,"##### 入力漏れがあります #####"]
[null,null,"所在地",null,null,"##### 入力漏れがあります #####"]
[null,null,"施設",null,null,"１．自社所有",null,"２．賃貸",null,"３．その他（　　　　　　　　　　　）"]
[null,null,"職員数",null,null,"事務職員",null,"人","技術職員",null,"人"]
[]
[null,null,"事務所所在地の略図　（住宅地図のコピー貼付でも可）"]
[]
[]
[]
[]
[]
[]
[]
[]
[]
[]
[]
[]
[]
[]
[]
[]
[]
[]
[]
[]
[]
[null,null,"※　職員数は常駐している者について記入すること。"]
[]
[]
[]
[null,"　事務所の外観写真を貼付してください。"]
[null,null,"※　外観写真には、事務所であることが分かるもの （看板等） を確認できるよう撮影してください。"]
[null,null,"※　デジカメ、ポラロイドでも可。"]

{"sheet":"印刷用(受理証)","index":17,"n_rows":45,"n_cols":10,"rows_kept":45,"cut":false,"hidden":true,"merged":[[24,5,24,9],[30,1,30,9],[38,3,39,7],[1,3,1,6],[2,3,2,6],[3,3,3,6],[4,3,12,6],[18,1,19,6],[23,5,23,9]]}
["様式第３号の６"]
[null,null,null,"受理証"]
[null,null,null,"物品・役務提供用　Ｂ"]
[null,null,null,"受付印・受理年月日"]
[]
[]
[]
[]
[]
[]
[]
[]
[]
[null,null,null,"＊受付印なき場合は無効"]
[]
[]
[]
[]
[null,"　　様"]
[]
[]
[]
[]
[null,null,null,null,null,"滋賀県野洲市小篠原２１００番地１"]
[null,null,null,null,null,"野洲市役所    総務部総務課   "]
[]
[]
[null,"令和６年度　入札参加資格審査申請書は下記の通り受理しました。"]
[]
[]
[null,"記"]
[null,null,null,null," "]
[null,null," "]
[null,"受理番号    ",null,"第　　Ｂ",null,null,"     号"]
[null,null," "]
[]
[]
[null,"有効期間",null,"令和６年４月１日から令和８年３月３１日の２年間有効"]
[]
[]
[null,null,null,null,null,null,null,null,null,"以上"]
[]
[null,"＊注意事項"]
[null,"・受理番号は有効年度において貴社の登録番号となりますので必ず保管してください。"]
[null,"・変更届（市指定様式）を提出される場合は、受理番号（Ｋ１２３４等）を必ず記入してください。"]

{"sheet":"印刷用(提出書類チェック表（市内）)","index":18,"n_rows":37,"n_cols":9,"rows_kept":37,"cut":false,"hidden":true,"merged":[[9,1,9,3],[9,4,9,5],[1,0,1,8],[4,0,5,0],[4,1,5,3],[4,4,5,5],[4,6,5,6],[4,7,4,8],[6,4,6,5],[7,1,7,3],[7,4,7,5],[8,1,8,3],[8,4,8,5],[10,1,10,3],[10,4,10,5],[11,1,12,1],[11,4,11,5],[12,2,12,3],[12,4,12,5],[13,0,14,0],[13,1,13,3],[13,4,13,5],[13,7,14,7],[13,8,14,8],[14,1,14,3],[14,4,14,5],[15,1,15,3],[15,4,15,5],[16,1,16,3],[16,4,16,5],[17,1,17,3],[17,4,17,5],[18,1,18,3],[18,4,18,5],[19,1,19,3],[19,4,19,5],[20,1,20,3],[20,4,20,5],[21,1,21,3],[21,4,21,5],[22,1,22,3],[22,4,22,5],[23,1,23,3],[23,4,23,5],[24,1,24,3],[24,4,24,5],[25,1,25,3],[25,4,25,5],[26,1,26,3],[26,4,26,5],[29,0,29,4],[31,0,31,2],[31,3,31,4],[32,0,32,2],[32,3,32,4],[33,6,36,8],[34,0,34,2],[34,3,34,4],[35,0,35,2],[35,3,35,4],[33,0,33,2],[33,3,33,4]]}
["様式第３号の７",null,null,null,null,null,null,null,"【市内用】"]
["提出書類チェック表　【物品供給及び役務提供】"]
[]
[null,null,null,null,null,null,null,null,"（各１部）"]
["NO.","必要書類",null,null,"様式",null,"備考","チェック欄"]
[null,null,null,null,null,null,null,"申請者","市"]
["①","入札参加資格審査申請書",null,null,"市指定様式第３号の１"]
["②","経営規模等総括表",null,null,"市指定様式第３号の２"]
["③","営業品目調書",null,null,"市指定様式第３号の３"]
["④","誓約書１",null,null,"市指定様式第３号の４",null,"代表者印（実印）を押印"]
["⑤","登録証、許可証、認定証、資格証等（写し可）",null,null,null,null,"申請要領1.の④に該当する場合のみ必要"]
["⑥-1","納税証明書","国税（法人税、消費税等）（写し可）",null,"税務署発行の納税証明書（その３の３）\n【発行日から３ヵ月以内】"]
["⑥-2",null,"市税（写し可）",null,"野洲市の発行するもの\n【発行日から３ヵ月以内】",null,"法人でない場合は代表者個人の「市税に未納がないこと」を証するもの"]
["⑦","登録事項証明書（商業登記簿謄本）（写し可）",null,null,"本社（店）所管の法務局が発行するもの\n【発行日から３ヵ月以内】"]
[null,"代表者身分（身元）証明書（写し可）",null,null,"各市町村(本籍地)が発行するもの\n【発行日から３ヵ月以内】"]
["⑧","営業所一覧表",null,null,"任意様式",null,"受任による場合のみ"]
["⑨","委任状",null,null,"共通様式１号\n※任意様式可",null,"受任による場合のみ"]
["⑩","使用印鑑届",null,null,"共通様式２号\n※任意様式可"]
["⑪","印鑑証明書（写し可）",null,null,"【発行日から３ヵ月以内】"]
["⑫","ＩＳＯ規格の登録書（写し可）",null,null,null,null,"取得のある場合のみ"]
["⑬","誓約書２（暴力団排除条例関連）",null,null,null,null,"代表者印（実印）を押印"]
["⑭","会社役員名簿",null,null,"市指定様式",null,"監査役の記入漏れに注意"]
["⑮","市内事務所等調書",null,null,"市指定様式第３号の５"]
["⑯","受理証",null,null,"市指定様式第３号の６"]
["⑱","返信用封筒",null,null,null,null,"郵送の場合のみ\n郵便切手を貼り送付先記入"]
["⑲","データディスク",null,null,"CD-Ｒ/RW、DVD-R/RW",null,"他の媒体（USBメモリ等）は不可。\n申請書等のデータが保存されているか要確認。"]
["-","クリアファイル",null,null,"A4サイズ"]
[]
["＊必要書類が揃っていれば、チェック欄の申請者用の欄に　「レ」点をご記入ください。"]
["＊伝えたいことなどがあれば、備考欄等にご記入ください。"]
[]
["受付番号",null,null,"　　　　Ｂ",null,null,null,"申請者チェック日　　　　令和６年 　    　月    　  　日　　"]
["申請者",null,null,"",null,null,null,"市チェック日　　　　令和６年 　   　 月    　　  日　　"]
["問合せ担当者",null,null,null,null,null,"　　〒５２０－２３９５\n　　滋賀県野洲市小篠原２１００番地１\n　　野洲市役所総務部総務課   契約管財担当\n　　Tel   ０７７－５８７－６０３８（総務課直通）\n　　Fax   ０７７－５８７－４０３３\n　　E-mail soumu@city.yasu.lg.jp"]
["連絡先　（ＴＥＬ）"]
["　　　　　（FAX）"]
["＊不備がある場合、市よりＦＡＸ等にて連絡させていただきますのでご承知ください。"]

{"sheet":"印刷用(提出書類チェック表（市外）)","index":19,"n_rows":35,"n_cols":9,"rows_kept":35,"cut":false,"hidden":true,"merged":[[31,0,31,2],[31,3,31,4],[31,6,34,8],[32,0,32,2],[32,3,32,4],[33,0,33,2],[33,3,33,4],[30,0,30,2],[30,3,30,4],[21,1,21,3],[21,4,21,5],[22,1,22,3],[22,4,22,5],[23,1,23,3],[23,4,23,5],[24,1,24,3],[24,4,24,5],[27,0,27,4],[29,0,29,2],[29,3,29,4],[18,1,18,3],[18,4,18,5],[19,1,19,3],[19,4,19,5],[20,1,20,3],[20,4,20,5],[15,1,15,3],[15,4,15,5],[16,1,16,3],[16,4,16,5],[17,1,17,3],[17,4,17,5],[12,7,13,7],[12,8,13,8],[13,1,13,3],[13,4,13,5],[14,1,14,3],[14,4,14,5],[10,1,10,3],[10,4,10,5],[11,4,11,5],[12,0,13,0],[12,1,12,3],[12,4,12,5],[9,1,9,3],[9,4,9,5],[1,0,1,8],[4,0,5,0],[4,1,5,3],[4,4,5,5],[4,6,5,6],[4,7,4,8],[6,4,6,5],[7,1,7,3],[7,4,7,5],[8,1,8,3],[8,4,8,5]]}
["様式第３号の７",null,null,null,null,null,null,null,"【市外用】"]
["提出書類チェック表　【物品供給及び役務提供】"]
[]
[null,null,null,null,null,null,null,null,"（各１部）"]
["NO.","必要書類",null,null,"様式",null,"備考","チェック欄"]
[null,null,null,null,null,null,null,"申請者","市"]
["①","入札参加資格審査申請書",null,null,"市指定様式第３号の１"]
["②","経営規模等総括表",null,null,"市指定様式第３号の２"]
["③","営業品目調書",null,null,"市指定様式第３号の３"]
["④","誓約書１",null,null,"市指定様式第３号の４",null,"代表者印（実印）を押印"]
["⑤","登録証、許可証、認定証、資格証等（写し可）",null,null,null,null,"申請要領1.の④に該当する場合のみ必要"]
["⑥-1","納税証明書","国税（法人税、消費税等）（写し可）",null,"税務署発行の納税証明書（その３の３）\n【発行日から３ヵ月以内】"]
["⑦","登録事項証明書（商業登記簿謄本）（写し可）",null,null,"本社（店）所管の法務局が発行するもの\n【発行日から３ヵ月以内】"]
[null,"代表者身分（身元）証明書（写し可）",null,null,"各市町村(本籍地)が発行するもの\n【発行日から３ヵ月以内】"]
["⑧","営業所一覧表",null,null,"任意様式",null,"受任による場合のみ"]
["⑨","委任状",null,null,"共通様式１号\n※任意様式可",null,"受任による場合のみ"]
["⑩","使用印鑑届",null,null,"共通様式２号\n※任意様式可"]
["⑪","印鑑証明書（写し可）",null,null,"【発行日から３ヵ月以内】"]
["⑫","ＩＳＯ規格の登録書（写し可）",null,null,null,null,"取得のある場合のみ"]
["⑬","誓約書２（暴力団排除条例関連）",null,null,null,null,"代表者印（実印）を押印"]
["⑭","会社役員名簿",null,null,"市指定様式",null,"監査役の記入漏れに注意"]
["⑯","受理証",null,null,"市指定様式第３号の６"]
["⑱","返信用封筒",null,null,null,null,"郵送の場合のみ\n郵便切手を貼り送付先記入"]
["⑲","データディスク",null,null,"CD-Ｒ/RW、DVD-R/RW",null,"他の媒体（USBメモリ等）は不可。\n申請書等のデータが保存されているか要確認。"]
["-","クリアファイル",null,null,"A4サイズ"]
[]
["＊必要書類が揃っていれば、チェック欄の申請者用の欄に　「レ」点をご記入ください。"]
["＊伝えたいことなどがあれば、備考欄等にご記入ください。"]
[]
["受付番号",null,null,"　　　　Ｂ",null,null,null,"申請者チェック日　　　　令和６年 　    　月    　  　日　　"]
["申請者",null,null,"",null,null,null,"市チェック日　　　　令和６年 　   　 月    　　  日　　"]
["問合せ担当者",null,null,null,null,null,"　　〒５２０－２３９５\n　　滋賀県野洲市小篠原２１００番地１\n　　野洲市役所総務部総務課   契約管財担当\n　　Tel   ０７７－５８７－６０３８（総務課直通）\n　　Fax   ０７７－５８７－４０３３\n　　E-mail soumu@city.yasu.lg.jp"]
["連絡先　（ＴＥＬ）"]
["　　　　　（FAX）"]
["＊不備がある場合、市よりＦＡＸ等にて連絡させていただきますのでご承知ください。"]

{"sheet":"印刷用(CDラベル・宛名ラベル)","index":20,"n_rows":39,"n_cols":4,"rows_kept":39,"cut":false,"hidden":true,"merged":[[3,2,4,4],[7,2,10,4],[11,3,11,4],[30,3,30,9]]}
[]
[]
[null,null,"野洲市令和６・７年度"]
[null,null,"【物品・役務の提供】"]
[]
[]
[]
[null,null,""]
[]
[]
[]
[null,null,"受付番号"," B"]
[]
[]
[]
[]
[]
[]
[null,null,"※上記ラベルを印刷しCDケースにのり付けしてください。（ディスク本体には貼り付けないでください。）"]
[null,null,"　　CD-RWにデータが保存されているか提出前に再度ご確認ください。"]
[]
[]
[]
[]
[]
[]
[null,null,"〒５２０－２３９５"]
[null,null,"滋賀県野洲市小篠原２１００番地１"]
[null,null,"野洲市役所　総務課　契約管財担当　行"]
[]
[null,null,null,"申請書等在中（物品・役務の提供）"]
[]
[]
[]
[]
[]
[]
[]
[null,null,"※送付の際にご利用ください"]